BEGIN:VCALENDAR
PRODID:NingEventWidget-v1
VERSION:2.0
METHOD:PUBLISH
BEGIN:VTIMEZONE
TZID:Europe/Paris
X-LIC-LOCATION:Europe/Paris
BEGIN:DAYLIGHT
TZOFFSETFROM:+0100
TZOFFSETTO:+0200
TZNAME:CEST
DTSTART:19700329T020000
RRULE:FREQ=YEARLY;BYMONTH=3;BYDAY=-1SU
END:DAYLIGHT
BEGIN:STANDARD
TZOFFSETFROM:+0200
TZOFFSETTO:+0100
TZNAME:CET
DTSTART:19701025T030000
RRULE:FREQ=YEARLY;BYMONTH=10;BYDAY=-1SU
END:STANDARD
END:VTIMEZONE
BEGIN:VEVENT
UID:6339722:Event:133174
DTSTAMP:20260423T164207Z
SUMMARY:YOUENN GUILLANTON - CHANTS A CAPPELLA EN BRETON
DESCRIPTION:Chants en breton a cappella MORBIHAN)\n\nPour en savoir pl
 us, rendez-vous sur http://www.breizhbook.com/events/youenn-guillanton
 -chants-a-cappella-en-breton
DTSTART;TZID=Europe/Paris:20120922T180000
DTEND;TZID=Europe/Paris:20120922T193000
CATEGORIES:soutien, école, diwan, -, skoazell, skol, bro, kistreberzh
LOCATION:LA CHAPELLE ST MICHEL
WEBSITE:https://maps.google.com/maps?q=Rue+le+Brun+et+Malard,+Questemb
 ert,+France&hl=fr&ll=47.661384,-2.451582&spn=0.010102,0.022724&sll=37.
 0625,-95.677068&sspn=48.287373,93.076172&oq=questembert,+rue+le&t=h&hn
 ear=Rue+le+Brun+et+Malard,+56230+Questembert,+Morbihan,+Bretagne,+Fran
 ce&z=16&layer=c&cbll=47.66148,-2.45142&panoid=-KT8HigiDOpMqE91hvZHwQ&c
 bp=12,147.3,,0,-14.49
URL:https://maps.google.com/maps?q=Rue+le+Brun+et+Malard,+Questembert,
 +France&hl=fr&ll=47.661384,-2.451582&spn=0.010102,0.022724&sll=37.0625
 ,-95.677068&sspn=48.287373,93.076172&oq=questembert,+rue+le&t=h&hnear=
 Rue+le+Brun+et+Malard,+56230+Questembert,+Morbihan,+Bretagne,+France&z
 =16&layer=c&cbll=47.66148,-2.45142&panoid=-KT8HigiDOpMqE91hvZHwQ&cbp=1
 2,147.3,,0,-14.49
CONTACT:0297737234
ORGANIZER:association ANDON
ATTACH;FMTTYPE="image/jpeg":
ATTENDEE;ROLE=REQ-PARTICIPANT;PARTSTAT=ACCEPTED;RSVP=TRUE;CN="GAEL Ar 
 RALLIG":http://www.breizhbook.com/profile/GAELARRALLIG
END:VEVENT
END:VCALENDAR
