BEGIN:VCALENDAR
PRODID:NingEventWidget-v1
VERSION:2.0
METHOD:PUBLISH
BEGIN:VTIMEZONE
TZID:Europe/Paris
X-LIC-LOCATION:Europe/Paris
BEGIN:DAYLIGHT
TZOFFSETFROM:+0100
TZOFFSETTO:+0200
TZNAME:CEST
DTSTART:19700329T020000
RRULE:FREQ=YEARLY;BYMONTH=3;BYDAY=-1SU
END:DAYLIGHT
BEGIN:STANDARD
TZOFFSETFROM:+0200
TZOFFSETTO:+0100
TZNAME:CET
DTSTART:19701025T030000
RRULE:FREQ=YEARLY;BYMONTH=10;BYDAY=-1SU
END:STANDARD
END:VTIMEZONE
BEGIN:VEVENT
UID:6339722:Event:122019
DTSTAMP:20260423T181918Z
SUMMARY:Wrap around shades provide you with the the majority
DESCRIPTION:Wrap around shades provide you with the the majority of de
 fense for the eyes in the sunshine. Ultra violet rays tend to be speci
 ally bad for your vision. Up your eyes can virtually obtain used up th
 rough UV rays. You could suffer perspective loss from ongoing experien
 ce of Ultra violet rays. It is extremely important that the eyes are g
 enerally protectedWrap oakleys for cheap close to shades guard the eye
 s oakley plaintiff such as hardly any other type. The sun cannot reach
  your eyes through the facets or from your top.Many people that perfor
 m sports activities depend on wrap around sun glasses to oakley frogs
 kins assist them play effectively, since the protection from solar su
 n rays are extremely outstanding with these sorts of sun glasses, athl
 etes can begin to play their sport about sunny days without having wor
 rying concerning the glare effecting their own sight.You will discover
  these types of oakley frogskins black sun glasses typically for the s
 ki slopes. Individuals who snowboarding are well mindful of some great
  benefits of donning cover shades, they take a seat neatly about the g
 o and also protect the eye area, to ensure they're properly protected 
 from your glare as well as the harmful sun.They appear rather like saf
 ety glasses but they are a good deal slimmer and much more comfy. Play
 ers rely on these kind of sun glasses to ensure that they're on the to
 p of his or her sport.The designs just change a little along with cove
 r shades. The particular contact lenses are generally very considerabl
 e and there's ordinarily a band oakley cheap of types coupled to the b
 iceps in the sun glasses that bags the rear of your head holding the p
 articular sunglasses solidly available.The style distinction is while 
 using colour of the structures and cheap oakley sunglasses also the 
 shape of your lenses. The color with the structures vary via model to 
 model. Typically the colour in the framework can match up the color in
  the wedding ring.The shade variety is from your specifically elegant 
 whites on the actually outrageous neon shades. Everything depends on p
 ersonalized alternative relating to which coloration fits your needs.\
 nWrap all around sun shades are oakley glasses simply the top eye pr
 otection on your eyes. You might purchase these kind of wonderful vari
 eties of shades from your number associated with sources, through spor
 ts equipment suppliers for you to on-line sites. You could gamble if y
 ou decide to store over the internet for these wonderful sunglasses yo
 u'll save any bagful of income in the process. Look for special online
  discounts and also free delivery in order to save a lot more cash. Ha
 ve an excellent cover sunglasses in a excellent value proper on-line.\
 nFor more please see our website: http://www.cheapoakleysunglassesspor
 t.com/\n\nPour en savoir plus, rendez-vous sur http://www.breizhbook.c
 om/events/wrap-around-shades-provide-you-with-the-the-majority
DTSTART;TZID=Europe/Paris:20120604T180000
DTEND;TZID=Europe/Paris:20120604T190000
CATEGORIES:wrap, around, shades, provide, you, with, the, majority
LOCATION:rgrgdtdbhed
WEBSITE:
URL:
CONTACT:
ORGANIZER;CN="asdfg asdf green":http://www.breizhbook.com/profile/asdf
 gasdfgreen
ATTACH;FMTTYPE="image/jpeg":
ATTENDEE;ROLE=REQ-PARTICIPANT;PARTSTAT=ACCEPTED;RSVP=TRUE;CN="asdfg as
 df green":http://www.breizhbook.com/profile/asdfgasdfgreen
END:VEVENT
END:VCALENDAR
