BEGIN:VCALENDAR
PRODID:NingEventWidget-v1
VERSION:2.0
METHOD:PUBLISH
BEGIN:VTIMEZONE
TZID:Europe/Paris
X-LIC-LOCATION:Europe/Paris
BEGIN:DAYLIGHT
TZOFFSETFROM:+0100
TZOFFSETTO:+0200
TZNAME:CEST
DTSTART:19700329T020000
RRULE:FREQ=YEARLY;BYMONTH=3;BYDAY=-1SU
END:DAYLIGHT
BEGIN:STANDARD
TZOFFSETFROM:+0200
TZOFFSETTO:+0100
TZNAME:CET
DTSTART:19701025T030000
RRULE:FREQ=YEARLY;BYMONTH=10;BYDAY=-1SU
END:STANDARD
END:VTIMEZONE
BEGIN:VEVENT
UID:6339722:Event:123361
DTSTAMP:20260423T181324Z
SUMMARY:would be the Mediterranean and beyond
DESCRIPTION:\n would be the Mediterranean and beyond.So far as a watc
 h opening knowledge, it does not improve than the usual trip to The eu
 ropean countries. If you'd like big t Malmo, Sweden : The Swedish Rivi
 era Be sure to look at the American Harbour oceanfront, in oakley vr28
  places you will see a lengthy boardwalk as well as man-made seen your
  seashore. May possibly his or her open-air pool area that the heartie
 st regarding Swedes will use year-round. In spite of the frosty climat
 e, this area might be known as the particular \"Swedish Riviera\", or 
 the \"Riviera in the North\". Check out Manchester for no more London 
 carries a standing as among the world's more expensive locations. Neve
 rtheless the market meltdown as well as the plummeting pound get produ
 ced benefits cheap oakley sunglasses for women regarding individuals
  from your home along with in another country. High are usually much m
 ore personal savings to be enjoyed if you know where you can search Sw
 eden Motel Reservations The gorgeous land associated with Sweden is fo
 und cheap oakley sunglasses around the Scandinavian Peninsula throug
 hout N . The european union. It is just a Nordic country which can be 
 in the middle of Norwegian from your west, Finland from the oakley rad
 ar lenses northeast and Denmark in the to the south. The administrativ
 e centre on this region is Stockholm. This position includes a mild we
 ather. This place is famous for the way of life, books, tunes, dishes 
 along with historical web sites.Correct within the tower, visitors can
  easily learn more of Sweden's religious earlier looking at the variet
 y of loose change and also other items.\nIf you are acquainted with yo
 ur 4-series fresh The Emigrants (1949-1959), you then must look at the
  Emigrants' Property. A quick outline of one of Sweden's best literatu
 re parts is that it is a account of an group throughout Sm?territory, 
 Sweden whom moved to The us during cheap oakley sunglasses sale the 
 1846 to be able to 1930. The same as Vilhelm Moberg (The actual Emigra
 nts) be touched and encouraged from the archives of the reports that c
 ould reach over A single.Three or more trillion Swedes throughout the 
 emigration movement.\nIf an individual take a trip with your beloved, 
 check out the Teleborg Fortress and become in love all over again. The
  Teleborg Castle built-in the 1900 was Count number Fredrik Bonde's we
 dding party given to his / her wife Anna Koskull. Via being used as a 
 hotel for women after the Bonde vacationing couple's death, many Swede
 s arrive at this fort regarding conventions and of course, marriage ce
 remonies.\nCathedral, maintain your own air for more amazing goblet bi
 ts of their Countrywide Cup Public. After all, Vaxjo will not claim sn
 owboard goggles sale to be the funding of the Kingdom involving Amazin
 gly for nothing.\nA capital of scotland- non secular, social and also 
 industry business value, this specific town of 50,000 has a lot to mak
 e available. Guide a flight ticket along with a resort and visit the f
 ascinating capital of scotland - Vaxjo. After you're here, get out of 
 your own hotel and allow your feet take you close to along with check 
 out people, the places along with the culture.\ncheap oakley sunglasse
 s: http://www.discountoakleysunglassesformen.com/\n\nPour en savoir pl
 us, rendez-vous sur http://www.breizhbook.com/events/would-be-the-medi
 terranean-and-beyond
DTSTART;TZID=Europe/Paris:20120618T180000
DTEND;TZID=Europe/Paris:20120621T190000
CATEGORIES:birthday, party
LOCATION:ifjlfjlsd
WEBSITE:
URL:
CONTACT:
ORGANIZER;CN="willis surrey charles":http://www.breizhbook.com/profile
 /willissurreycharles
ATTACH;FMTTYPE="image/jpeg":
ATTENDEE;ROLE=REQ-PARTICIPANT;PARTSTAT=ACCEPTED;RSVP=TRUE;CN="willis s
 urrey charles":http://www.breizhbook.com/profile/willissurreycharles
END:VEVENT
END:VCALENDAR
