BEGIN:VCALENDAR
PRODID:NingEventWidget-v1
VERSION:2.0
METHOD:PUBLISH
BEGIN:VTIMEZONE
TZID:Europe/Paris
X-LIC-LOCATION:Europe/Paris
BEGIN:DAYLIGHT
TZOFFSETFROM:+0100
TZOFFSETTO:+0200
TZNAME:CEST
DTSTART:19700329T020000
RRULE:FREQ=YEARLY;BYMONTH=3;BYDAY=-1SU
END:DAYLIGHT
BEGIN:STANDARD
TZOFFSETFROM:+0200
TZOFFSETTO:+0100
TZNAME:CET
DTSTART:19701025T030000
RRULE:FREQ=YEARLY;BYMONTH=10;BYDAY=-1SU
END:STANDARD
END:VTIMEZONE
BEGIN:VEVENT
UID:6339722:Event:128639
DTSTAMP:20260423T163542Z
SUMMARY:When applying for your flight worker task
DESCRIPTION:When applying for your flight worker task, it will be uniq
 ue, as with all some other job out there. What you are before long gon
 na find out is as long as you stick out being a aching flash (in the g
 reat way), you are going to greatly raise your likelihood of obtaining
  employment.\nWhat I needed to indicate right now is the place where y
 ou'll be able to terrain an incredible concert with just concerning ju
 st about any airline firm around. Toms Cords By following these kind
 s of easy, yet powerful suggestions, you will probably land a career y
 ou've always dreamed of!\nWhen composing a protective cover correspond
 ence, especially in the actual air carrier business, the main element 
 to carrying this out is usually to be brief, and also sweet. I would r
 ecommend that you simply stay with writing about 3-5 grammatical const
 ruction. Should you be likely to do anything over this particular, it 
 can be more than likely destined to be overkill. Make certain you keep
  it quick, this can be #1.\nWhen composing the principle body, you sho
 uld market yourself. Why must they will retain the services of a perso
 n? They are several things that you ought to take a look at, when prod
 ucing your correspondence. By simply toms dancing houses critiques loo
 king at all of them, it will offer you a much better concept (I am hop
 ing)...\nDo you have customer satisfaction encounter? If that's the ca
 se, how could you capitalize on this particular?What type of wellness 
 low cost toms footwear for youngsters instruction for your requirement
 s have got? CPR? and many others?Can a person talk various other 'lang
 uages'?How are your interaction knowledge?Are a person great in tense 
 conditions?\nThese are typical things that it is possible to opinion a
 bout, when creating the primary system paragraph of your respective co
 ver letter. Generally, toms promotional program code apr your own job 
 cover toms shoes for kids letter is going to appear to be toms pitch
 ing wedges evaluations this specific....\nINTRO -- Discuss career star
 ting.BODY (SELL On your own!)CONCLUSION (Again, sell oneself, as well 
 as point out you peer toward talking with these shortly)\nYour introdu
 ctory ought to be about 1 section, although one's body must be a coupl
 e of. By using these pointers, you have to be capable of produce a kil
 ler resume cover letter.\nHere are a handful of great trip clerk work 
 guidelines which you can use in order to territory the position of you
 r dreams.\n\nPour en savoir plus, rendez-vous sur http://www.breizhboo
 k.com/events/when-applying-for-your-flight-worker-task
DTSTART;TZID=Europe/Paris:20120724T180000
DTEND;TZID=Europe/Paris:20120731T190000
CATEGORIES:birthday, party
LOCATION:London
WEBSITE:
URL:
CONTACT:
ORGANIZER;CN="willis surrey charles":http://www.breizhbook.com/profile
 /willissurreycharles
ATTACH;FMTTYPE="image/jpeg":
ATTENDEE;ROLE=REQ-PARTICIPANT;PARTSTAT=ACCEPTED;RSVP=TRUE;CN="willis s
 urrey charles":http://www.breizhbook.com/profile/willissurreycharles
END:VEVENT
END:VCALENDAR
