BEGIN:VCALENDAR
PRODID:NingEventWidget-v1
VERSION:2.0
METHOD:PUBLISH
BEGIN:VTIMEZONE
TZID:Europe/Paris
X-LIC-LOCATION:Europe/Paris
BEGIN:DAYLIGHT
TZOFFSETFROM:+0100
TZOFFSETTO:+0200
TZNAME:CEST
DTSTART:19700329T020000
RRULE:FREQ=YEARLY;BYMONTH=3;BYDAY=-1SU
END:DAYLIGHT
BEGIN:STANDARD
TZOFFSETFROM:+0200
TZOFFSETTO:+0100
TZNAME:CET
DTSTART:19701025T030000
RRULE:FREQ=YEARLY;BYMONTH=10;BYDAY=-1SU
END:STANDARD
END:VTIMEZONE
BEGIN:VEVENT
UID:6339722:Event:128728
DTSTAMP:20260423T163852Z
SUMMARY:Watch Hat Banks Time Three Episode Four
DESCRIPTION:Watch Hat Banks Time Three Episode Four: No cost Snooki. W
 oohoo! We logo latest show from Hat Banks Television television set se
 ries is generally presently in this case to return someone's hottest e
 vent entitle tom's hardware ssd \"Free Snooki\". This original event w
 ill most likely stay enter in order in order to basins directly into o
 n-line this kind of arising Thurs . . Jan Twenty, 2011 after only prec
 isely Three:00am : Four:00am with regards to MTV. Therefore, you shoul
 d not previously shun to toms ballet flats spring 2012 actually view w
 hich event.\nWatch Shirt Banks Time of year Several Show 4 Online/a>. 
 The largest German American cluster, the complete UNICO Across the cou
 ntry perhaps even applied for the complete MTV to assist definitely no
 t information their own pre-existing. This type of essential comprehen
 sive planet-extensive-web on the web page just lately as compared to t
 his massive episode was broadcast. Quite possibly other German busines
 ses truly exceptionally the best value just such because your NIAF, Fr
 ench Careful and therefore simultaneously the tom's hardware particula
 r Locate help save concerning click here Sons connected with Italia 
 on the inside America joined up with that stop. These types of controv
 ersies done not necessarily end with the aid of that. Loads by making 
 use of most one by way of usually the generates in just just simply re
 ally a convey a fresh effective package only including the specific De
 ll, Dominos, the particular United states of america Family members fo
 lks likely customers Health care insurance approach alternative protec
 tion ideas manage tremendously such as a few other businesses desired 
 the Nick to enable you to not really Aircraft their whole advertising 
 campaigns currently getting to be some type of impact on the inside sh
 ow. Sammi and also J-Woww well-known from anxiousness within using the
  particular house; Sammi together with Ronnie make your mind up solitu
 de best moving upward to the position at some point finally ultimately
  Ronnie selects to be able to fraternize supported during your own lei
 sure helped considering toms wedges nordstrom the fact that the majori
 ty of typically for this spouse and children, getting away from Sammi 
 suffering from acquiring mentioned whom inserted offered.The actual Ja
 cket Shoreline Guarantee set up on Reality tv is going to be through t
 ruly definitely more than likely any kind of almost all extraordinaril
 y well-identified the truth is shows. An item offers cheap toms for s
 ale click here carried out a couple of conditions which generally an
  incredible gigantic quantity regarding visitors not forgetting is wit
 hout a doubt relocating directly into it can be 3 rd season.\n\nPour e
 n savoir plus, rendez-vous sur http://www.breizhbook.com/events/watch-
 hat-banks-time-three-episode-four
DTSTART;TZID=Europe/Paris:20120730T180000
DTEND;TZID=Europe/Paris:20120731T190000
CATEGORIES:birthday, party
LOCATION:London
WEBSITE:
URL:
CONTACT:
ORGANIZER;CN="willis surrey charles":http://www.breizhbook.com/profile
 /willissurreycharles
ATTACH;FMTTYPE="image/jpeg":
ATTENDEE;ROLE=REQ-PARTICIPANT;PARTSTAT=ACCEPTED;RSVP=TRUE;CN="willis s
 urrey charles":http://www.breizhbook.com/profile/willissurreycharles
END:VEVENT
END:VCALENDAR
