BEGIN:VCALENDAR
PRODID:NingEventWidget-v1
VERSION:2.0
METHOD:PUBLISH
BEGIN:VTIMEZONE
TZID:Europe/Paris
X-LIC-LOCATION:Europe/Paris
BEGIN:DAYLIGHT
TZOFFSETFROM:+0100
TZOFFSETTO:+0200
TZNAME:CEST
DTSTART:19700329T020000
RRULE:FREQ=YEARLY;BYMONTH=3;BYDAY=-1SU
END:DAYLIGHT
BEGIN:STANDARD
TZOFFSETFROM:+0200
TZOFFSETTO:+0100
TZNAME:CET
DTSTART:19701025T030000
RRULE:FREQ=YEARLY;BYMONTH=10;BYDAY=-1SU
END:STANDARD
END:VTIMEZONE
BEGIN:VEVENT
UID:6339722:Event:145091
DTSTAMP:20260423T175951Z
SUMMARY:Voeux des 50 ans de l'ACB (asso des cadres bretons)
DESCRIPTION:Cette année, l'Association des Cadres Bretons fête ses 5
 0 ans. Venez partager ce moment unique à nos côtés le 23 JANVIER au
 x côtés du bateau TARA.\nSur inscription uniquement :\nhttp://www.ca
 dres-bretons.fr/tara.html\n\nPour en savoir plus, rendez-vous sur http
 ://www.breizhbook.com/events/voeux-des-50-ans-de-l-acb-asso-des-cadres
 -bretons
DTSTART;TZID=Europe/Paris:20130123T190000
DTEND;TZID=Europe/Paris:20130123T220000
CATEGORIES:"l'acb", fête, ses, 50, ans
LOCATION:Pont Alexandre III
WEBSITE:http://www.cadres-bretons.fr/tara.html
URL:http://www.cadres-bretons.fr/tara.html
CONTACT:
ORGANIZER;CN=GESSIER:http://www.breizhbook.com/profile/GESSIER
ATTACH;FMTTYPE="image/jpeg":
ATTENDEE;ROLE=REQ-PARTICIPANT;PARTSTAT=ACCEPTED;RSVP=TRUE;CN=GESSIER:h
 ttp://www.breizhbook.com/profile/GESSIER
END:VEVENT
END:VCALENDAR
