BEGIN:VCALENDAR
PRODID:NingEventWidget-v1
VERSION:2.0
METHOD:PUBLISH
BEGIN:VTIMEZONE
TZID:Europe/Paris
X-LIC-LOCATION:Europe/Paris
BEGIN:DAYLIGHT
TZOFFSETFROM:+0100
TZOFFSETTO:+0200
TZNAME:CEST
DTSTART:19700329T020000
RRULE:FREQ=YEARLY;BYMONTH=3;BYDAY=-1SU
END:DAYLIGHT
BEGIN:STANDARD
TZOFFSETFROM:+0200
TZOFFSETTO:+0100
TZNAME:CET
DTSTART:19701025T030000
RRULE:FREQ=YEARLY;BYMONTH=10;BYDAY=-1SU
END:STANDARD
END:VTIMEZONE
BEGIN:VEVENT
UID:6339722:Event:79729
DTSTAMP:20260423T175300Z
SUMMARY:Festival des Vieilles Charrues 2012
DESCRIPTION:Le Festival des Vieilles Charrues a été créé en 1992 p
 our mélanger les genres et être accessible à tout public. Il est ra
 pidement devenu le plus grand festival de musique français en termes 
 de fréquentation.\nLes Vieilles Charrues reversent une partie de leur
 s bénéfices pour le développement du tissu associatif et culturel d
 u centre Bretagne Le prochain Festival des Vieilles Charrues (21e édi
 tion) se déroulera du 19 au 22 juillet 2012.\n\nPour en savoir plus, 
 rendez-vous sur http://www.breizhbook.com/events/vieilles-charrues
DTSTART;TZID=Europe/Paris:20120719T000000
DTEND;TZID=Europe/Paris:20120722T235900
CATEGORIES:festival, musique
LOCATION:Carhaix, Finistère
WEBSITE:http://www.vieillescharrues.asso.fr/
URL:http://www.vieillescharrues.asso.fr/
CONTACT:
ORGANIZER:Association - Festival des Vieilles Charrues
ATTACH;FMTTYPE="image/jpeg":http://storage.ning.com/topology/rest/1.0/
 file/get/3198292855?profile=original
ATTENDEE;ROLE=REQ-PARTICIPANT;PARTSTAT=ACCEPTED;RSVP=TRUE;CN="Le Nagar
 d Mickaël":http://www.breizhbook.com/profile/LeNagardMickael
ATTENDEE;ROLE=REQ-PARTICIPANT;PARTSTAT=ACCEPTED;RSVP=TRUE;CN="Coralie 
 le Bian":http://www.breizhbook.com/profile/CoralieleBian
ATTENDEE;ROLE=REQ-PARTICIPANT;PARTSTAT=ACCEPTED;RSVP=TRUE;CN=coutin:ht
 tp://www.breizhbook.com/profile/coutin
ATTENDEE;ROLE=REQ-PARTICIPANT;PARTSTAT=ACCEPTED;RSVP=TRUE;CN="Gwendal 
 Blavon Duchesne":http://www.breizhbook.com/profile/GwendalBlavonDuches
 ne
ATTENDEE;ROLE=REQ-PARTICIPANT;PARTSTAT=ACCEPTED;RSVP=TRUE;CN="Corentin
  de Breizhbook":http://www.breizhbook.com/profile/0km5tmola9u3k
ATTENDEE;ROLE=REQ-PARTICIPANT;PARTSTAT=ACCEPTED;RSVP=TRUE;CN=Breizhboo
 k:http://www.breizhbook.com/profile/Breizhbook
ATTENDEE;ROLE=REQ-PARTICIPANT;PARTSTAT=TENTATIVE;RSVP=TRUE;CN=sizun:ht
 tp://www.breizhbook.com/profile/sizun
ATTENDEE;ROLE=REQ-PARTICIPANT;PARTSTAT=TENTATIVE;RSVP=TRUE;CN="Klodius
  Breihz de Kui":http://www.breizhbook.com/profile/KlodiusBreihzdeKui
ATTENDEE;ROLE=REQ-PARTICIPANT;PARTSTAT=TENTATIVE;RSVP=TRUE;CN="Tas / L
 e Nouveau (Taz / Nevez)":http://www.breizhbook.com/profile/LeNouveauNo
 lwenn
END:VEVENT
END:VCALENDAR
