BEGIN:VCALENDAR
PRODID:NingEventWidget-v1
VERSION:2.0
METHOD:PUBLISH
BEGIN:VTIMEZONE
TZID:Europe/Paris
X-LIC-LOCATION:Europe/Paris
BEGIN:DAYLIGHT
TZOFFSETFROM:+0100
TZOFFSETTO:+0200
TZNAME:CEST
DTSTART:19700329T020000
RRULE:FREQ=YEARLY;BYMONTH=3;BYDAY=-1SU
END:DAYLIGHT
BEGIN:STANDARD
TZOFFSETFROM:+0200
TZOFFSETTO:+0100
TZNAME:CET
DTSTART:19701025T030000
RRULE:FREQ=YEARLY;BYMONTH=10;BYDAY=-1SU
END:STANDARD
END:VTIMEZONE
BEGIN:VEVENT
UID:6339722:Event:118149
DTSTAMP:20260423T175212Z
SUMMARY:vide-grenier
DESCRIPTION:l'école DIWAN de questembert (56) organise un vide-grenie
 r sous les halles et autour des halles,le DIMANCHE 13 MAI 2012\npour l
 es inscritions voir le site de l'école skol diwan kistreberzh\n\nPour
  en savoir plus, rendez-vous sur http://www.breizhbook.com/events/vide
 -grenier
DTSTART;TZID=Europe/Paris:20120513T000000
DTEND;TZID=Europe/Paris:20120513T235900
CATEGORIES:vide-grenier
LOCATION:sous les halles et autour des halles
WEBSITE:http://skol diwan kistreberzh
URL:http://skol diwan kistreberzh
CONTACT:
ORGANIZER:diwan
ATTACH;FMTTYPE="image/jpeg":
ATTENDEE;ROLE=REQ-PARTICIPANT;PARTSTAT=ACCEPTED;RSVP=TRUE;CN=breniliz:
 http://www.breizhbook.com/profile/VARIN
END:VEVENT
END:VCALENDAR
