BEGIN:VCALENDAR
PRODID:NingEventWidget-v1
VERSION:2.0
METHOD:PUBLISH
BEGIN:VTIMEZONE
TZID:Europe/Paris
X-LIC-LOCATION:Europe/Paris
BEGIN:DAYLIGHT
TZOFFSETFROM:+0100
TZOFFSETTO:+0200
TZNAME:CEST
DTSTART:19700329T020000
RRULE:FREQ=YEARLY;BYMONTH=3;BYDAY=-1SU
END:DAYLIGHT
BEGIN:STANDARD
TZOFFSETFROM:+0200
TZOFFSETTO:+0100
TZNAME:CET
DTSTART:19701025T030000
RRULE:FREQ=YEARLY;BYMONTH=10;BYDAY=-1SU
END:STANDARD
END:VTIMEZONE
BEGIN:VEVENT
UID:6339722:Event:118335
DTSTAMP:20260423T175311Z
SUMMARY:Vide-Grenier à Roz-Landrieux
DESCRIPTION:Venez au fin fond de l'Ille et Vilaine dans la petite comm
 une de Roz-Landrieux pour faire de bonnes affaires... Place de l'Eglis
 e! :)\n\nPour en savoir plus, rendez-vous sur http://www.breizhbook.co
 m/events/vide-grenier-roz-landrieux
DTSTART;TZID=Europe/Paris:20120507T000000
DTEND;TZID=Europe/Paris:20120507T235900
CATEGORIES:vide-grenier
LOCATION:Remplissage
WEBSITE:
URL:
CONTACT:
ORGANIZER:Ecole Sacré Coeur
ATTACH;FMTTYPE="image/jpeg":
ATTENDEE;ROLE=REQ-PARTICIPANT;PARTSTAT=ACCEPTED;RSVP=TRUE;CN="Tiphanie
  Flaux":http://www.breizhbook.com/profile/TiphanieFlaux
END:VEVENT
END:VCALENDAR
