BEGIN:VCALENDAR
PRODID:NingEventWidget-v1
VERSION:2.0
METHOD:PUBLISH
BEGIN:VTIMEZONE
TZID:Europe/Paris
X-LIC-LOCATION:Europe/Paris
BEGIN:DAYLIGHT
TZOFFSETFROM:+0100
TZOFFSETTO:+0200
TZNAME:CEST
DTSTART:19700329T020000
RRULE:FREQ=YEARLY;BYMONTH=3;BYDAY=-1SU
END:DAYLIGHT
BEGIN:STANDARD
TZOFFSETFROM:+0200
TZOFFSETTO:+0100
TZNAME:CET
DTSTART:19701025T030000
RRULE:FREQ=YEARLY;BYMONTH=10;BYDAY=-1SU
END:STANDARD
END:VTIMEZONE
BEGIN:VEVENT
UID:6339722:Event:161841
DTSTAMP:20260423T181323Z
SUMMARY:vente flash pack vodka canna scarface
DESCRIPTION:Gsoif vous propose le pack vodka cannabis (1L) + 2L de sca
 rface (boisson énergisante ) en promo flash jusqu'au 08/03/2013.Nombr
 e limité à 5 packs !\n\nPour en savoir plus, rendez-vous sur http://
 www.breizhbook.com/events/vente-flash-pack-vodka-canna-scarface
DTSTART;TZID=Europe/Paris:20130305T180000
DTEND;TZID=Europe/Paris:20130308T190000
CATEGORIES:vente, flash
LOCATION:www.gsoif.fr
WEBSITE:http://www.gsoif.fr
URL:http://www.gsoif.fr
CONTACT:0298701108
ORGANIZER;CN="Gsoif Quimper":http://www.breizhbook.com/profile/GsoifQu
 imper
ATTACH;FMTTYPE="image/jpeg":http://storage.ning.com/topology/rest/1.0/
 file/get/3198345880?profile=original
ATTENDEE;ROLE=REQ-PARTICIPANT;PARTSTAT=ACCEPTED;RSVP=TRUE;CN="Gsoif Qu
 imper":http://www.breizhbook.com/profile/GsoifQuimper
END:VEVENT
END:VCALENDAR
