BEGIN:VCALENDAR
PRODID:NingEventWidget-v1
VERSION:2.0
METHOD:PUBLISH
BEGIN:VTIMEZONE
TZID:Europe/Paris
X-LIC-LOCATION:Europe/Paris
BEGIN:DAYLIGHT
TZOFFSETFROM:+0100
TZOFFSETTO:+0200
TZNAME:CEST
DTSTART:19700329T020000
RRULE:FREQ=YEARLY;BYMONTH=3;BYDAY=-1SU
END:DAYLIGHT
BEGIN:STANDARD
TZOFFSETFROM:+0200
TZOFFSETTO:+0100
TZNAME:CET
DTSTART:19701025T030000
RRULE:FREQ=YEARLY;BYMONTH=10;BYDAY=-1SU
END:STANDARD
END:VTIMEZONE
BEGIN:VEVENT
UID:6339722:Event:132394
DTSTAMP:20260423T163541Z
SUMMARY:Veillée-contée d'automne
DESCRIPTION:Veillée co-organisée par l'association \"Bazouges nature
 \", en lien avec la Bibliothèque de Hédé-Bazouges, avec contributio
 ns chantées d'habitants.La \"rêve é-veillée\" se poursuivra jusque
  tard, espérant sevrer les oreilles et les coeurs insatiables !...\n\
 nPour en savoir plus, rendez-vous sur http://www.breizhbook.com/events
 /veill-e-cont-e-d-automne
DTSTART;TZID=Europe/Paris:20121013T200000
DTEND;TZID=Europe/Paris:20121013T230000
CATEGORIES:conte
LOCATION:salle de Bazouges
WEBSITE:http://www.contes-et-merveilles.com/agenda.php
URL:http://www.contes-et-merveilles.com/agenda.php
CONTACT:
ORGANIZER;CN=MATHIAS:http://www.breizhbook.com/profile/MATHIAS
ATTACH;FMTTYPE="image/jpeg":http://storage.ning.com/topology/rest/1.0/
 file/get/3198325246?profile=original
ATTENDEE;ROLE=REQ-PARTICIPANT;PARTSTAT=ACCEPTED;RSVP=TRUE;CN=MATHIAS:h
 ttp://www.breizhbook.com/profile/MATHIAS
END:VEVENT
END:VCALENDAR
