BEGIN:VCALENDAR
PRODID:NingEventWidget-v1
VERSION:2.0
METHOD:PUBLISH
BEGIN:VTIMEZONE
TZID:Europe/Paris
X-LIC-LOCATION:Europe/Paris
BEGIN:DAYLIGHT
TZOFFSETFROM:+0100
TZOFFSETTO:+0200
TZNAME:CEST
DTSTART:19700329T020000
RRULE:FREQ=YEARLY;BYMONTH=3;BYDAY=-1SU
END:DAYLIGHT
BEGIN:STANDARD
TZOFFSETFROM:+0200
TZOFFSETTO:+0100
TZNAME:CET
DTSTART:19701025T030000
RRULE:FREQ=YEARLY;BYMONTH=10;BYDAY=-1SU
END:STANDARD
END:VTIMEZONE
BEGIN:VEVENT
UID:6339722:Event:168375
DTSTAMP:20260423T175659Z
SUMMARY:Une toile artistique offerte
DESCRIPTION:Besoin de changer d'environnement ?\nVous en avez assez de
  la grisaille ?\n \n\nVotre décor va changer Grâce ces décorations
  murales de photos artistiques !\nCréées en plusieurs coloris, taill
 es et matières,\nelles s'adapteront à coup sûr à votre environneme
 nt.\nCes photos artistiques sont réalisées par la photographe YSIS P
 HOT'eau\ndisponibles seulement en 30 exemplaires chacune.\nVous recevr
 ez par mail un certificat d'authenticité, numéroté et signé par l'
 artiste photographe, à coller au dos de votre oeuvre, lui conférant 
 alors un caractère unique !\n\n \nAUJOURD'HUI  votre toile photo\n3
 0X20 cm OFFERTE*!\nUtilisez le code TOILE13 lors de votre commande\ncl
 iquez ici\n*(code unique - pour toute commande à partir de 19,90 €,
  soit une réduction de 11,45€)\n \n\nPour en savoir plus, rendez-v
 ous sur http://www.breizhbook.com/events/une-toile-artistique-offerte
DTSTART;TZID=Europe/Paris:20130323T180000
DTEND;TZID=Europe/Paris:20130325T190000
CATEGORIES:toile, gratuite
LOCATION:http://www.mydesign.com/boutiques/ysisphotos
WEBSITE:
URL:
CONTACT:
ORGANIZER;CN="lightworker 29":http://www.breizhbook.com/profile/lightw
 orker29
ATTACH;FMTTYPE="image/jpeg":
ATTENDEE;ROLE=REQ-PARTICIPANT;PARTSTAT=ACCEPTED;RSVP=TRUE;CN="lightwor
 ker 29":http://www.breizhbook.com/profile/lightworker29
END:VEVENT
END:VCALENDAR
