BEGIN:VCALENDAR
PRODID:NingEventWidget-v1
VERSION:2.0
METHOD:PUBLISH
BEGIN:VTIMEZONE
TZID:Europe/Paris
X-LIC-LOCATION:Europe/Paris
BEGIN:DAYLIGHT
TZOFFSETFROM:+0100
TZOFFSETTO:+0200
TZNAME:CEST
DTSTART:19700329T020000
RRULE:FREQ=YEARLY;BYMONTH=3;BYDAY=-1SU
END:DAYLIGHT
BEGIN:STANDARD
TZOFFSETFROM:+0200
TZOFFSETTO:+0100
TZNAME:CET
DTSTART:19701025T030000
RRULE:FREQ=YEARLY;BYMONTH=10;BYDAY=-1SU
END:STANDARD
END:VTIMEZONE
BEGIN:VEVENT
UID:6339722:Event:125207
DTSTAMP:20260423T181333Z
SUMMARY:ULTRA BULLITT
DESCRIPTION:Si vous pensez, comme moi, que le rock est fait de rage et
  de furie. Si vous croyez qu’il n’y a dans ce domaine qu’un seul
  convoi et dans ce convoi de rares longues figures. Si, parmi ces long
 ues figures, vous reconnaissez quelques rudes héros. Si ces héros ap
 partiennent à la grande légende et si cette légende s’enroule aut
 our des Kinks, de MC5, des Stooges et de Grand Funk Railroad, alors no
 us sommes tous d’accord. Nous avons identifié la même cible, nous
  avons reconnu les gâchettes du rock qui refusent de mourir. Ultra Bu
 llitt est un power trio qui n’a pas besoin de porter le cache poussi
 ère des rebelles du désert\n\nPour en savoir plus, rendez-vous sur h
 ttp://www.breizhbook.com/events/ultra-bullitt
DTSTART;TZID=Europe/Paris:20120629T100000
DTEND;TZID=Europe/Paris:20120629T140000
CATEGORIES:concert
LOCATION:CASA DEL MAR
WEBSITE:
URL:
CONTACT:
ORGANIZER;CN="matt Mesrine":http://www.breizhbook.com/profile/mattMesr
 ine
ATTACH;FMTTYPE="image/jpeg":
ATTENDEE;ROLE=REQ-PARTICIPANT;PARTSTAT=ACCEPTED;RSVP=TRUE;CN="matt Mes
 rine":http://www.breizhbook.com/profile/mattMesrine
END:VEVENT
END:VCALENDAR
