BEGIN:VCALENDAR
PRODID:NingEventWidget-v1
VERSION:2.0
METHOD:PUBLISH
BEGIN:VTIMEZONE
TZID:Europe/Paris
X-LIC-LOCATION:Europe/Paris
BEGIN:DAYLIGHT
TZOFFSETFROM:+0100
TZOFFSETTO:+0200
TZNAME:CEST
DTSTART:19700329T020000
RRULE:FREQ=YEARLY;BYMONTH=3;BYDAY=-1SU
END:DAYLIGHT
BEGIN:STANDARD
TZOFFSETFROM:+0200
TZOFFSETTO:+0100
TZNAME:CET
DTSTART:19701025T030000
RRULE:FREQ=YEARLY;BYMONTH=10;BYDAY=-1SU
END:STANDARD
END:VTIMEZONE
BEGIN:VEVENT
UID:6339722:Event:174005
DTSTAMP:20260423T164311Z
SUMMARY:troc et puces Ã  HENNEBONT Camping de Saint caradec 19 mai 201
 3
DESCRIPTION:troc et puces annuel sur le site du camping de Saint Carad
 ec ,Â  au bord du Blavet ,avec buvette,sandwiches et gÃ¢teaux\ntoute l
 a journÃ©e du dimanche 19 mai 2013\nPrÃ©sence de jeux\nstand de l'ARSE
 PÂ  : association rÃ©gionaleÂ  de rechercheÂ  sur la sclÃ©rose en plaq
 ues\n\nPour en savoir plus, rendez-vous sur http://www.breizhbook.com/
 events/troc-et-puces-hennebont-camping-de-saint-caradec-19-mai-2013
DTSTART;TZID=Europe/Paris:20130519T000000
DTEND;TZID=Europe/Paris:20130519T235900
CATEGORIES:troc, et, puces, au, bÃ©nÃ©fice, de, la, restauration, "l'Ã
 ©glise", saint, caradec
LOCATION:camping municipal d'Hennebont, quartier SAINT CARADEC
WEBSITE:http://lecadiq.free.fr
URL:http://lecadiq.free.fr
CONTACT:0297363607 ou 0297325779
ORGANIZER:le ComitÃ© d'animation et dÃ©fense des intÃ©rÃªts du quartie
 r saint caradec : Le CADIQ
ATTACH;FMTTYPE="image/jpeg":
ATTENDEE;ROLE=REQ-PARTICIPANT;PARTSTAT=ACCEPTED;RSVP=TRUE;CN=INQUEL:ht
 tp://www.breizhbook.com/profile/INQUEL
END:VEVENT
END:VCALENDAR
