BEGIN:VCALENDAR
PRODID:NingEventWidget-v1
VERSION:2.0
METHOD:PUBLISH
BEGIN:VTIMEZONE
TZID:Europe/Paris
X-LIC-LOCATION:Europe/Paris
BEGIN:DAYLIGHT
TZOFFSETFROM:+0100
TZOFFSETTO:+0200
TZNAME:CEST
DTSTART:19700329T020000
RRULE:FREQ=YEARLY;BYMONTH=3;BYDAY=-1SU
END:DAYLIGHT
BEGIN:STANDARD
TZOFFSETFROM:+0200
TZOFFSETTO:+0100
TZNAME:CET
DTSTART:19701025T030000
RRULE:FREQ=YEARLY;BYMONTH=10;BYDAY=-1SU
END:STANDARD
END:VTIMEZONE
BEGIN:VEVENT
UID:6339722:Event:147973
DTSTAMP:20260423T175855Z
SUMMARY:Tremplin festival au Pont du Rock 2013
DESCRIPTION:\n\nComme chaque annÃ©e, lâ€™association Â« Aux Arts Etc Â
 » organise le tremplin du festival Â« au Pont du Rock Â» afin de donne
 r la chance aux jeunes artistes locaux de se produire lors du festival
 .\n SAMEDI 23 FEVRIER, DES 20H, 5 GROUPES DE BRETAGNE + LOIRE-ATLANTIQ
 UE SE PRODUIRONT:  # BLACK CHERRY CIRKUS (indie Ã©lectro pop rock - Na
 ntes) http://www.myspace.com/blackcherrycirkus https://www.facebook.co
 m/blackcherrycirkus http://www.youtube.com/watch?v=4yk4-wHgXWs  # MIST
 ER DOLLAR (electro rock hip hop â€“ Brest) http://misterdollar.toolzik
 .com/ https://www.facebook.com/pages/Mister-Dollar/47334567358 http://
 www.youtube.com/watch?v=3sXqinpAmRg  # DA FAMILIA BROTHERS (fest regga
 e â€“ CampÃ©nÃ©ac) https://www.facebook.com/pages/Da-Familia-Brothers/
 440405096004612 http://www.youtube.com/watch?v=UcRexVoW9FE  # THE RAID
 ERS (AmphÃ©tamine Rock nâ€™roll â€“ Brest) https://www.facebook.com/pa
 ges/The-Raiders/312340825487414 http://www.youtube.com/watch?v=vD2woLk
 wcsc  # TWELVE FEET UNDER (rock - Vannes) http://www.myspace.com/twelv
 efeetunder12 https://www.facebook.com/pages/Twelve-Feet-Under/17683031
 5759646?fref=ts http://www.youtube.com/watch?v=XvzR5qct-ic  Lâ€™heureu
 x Ã©lu jouera en ouverture du 23Ã¨me festival Â« au Pont du Rock Â» qu
 i aura lieu les 26 et 27 juillet et se verra offrir 3 jours dâ€™enregi
 strement au studio Rouge Micro.   EntrÃ©e : 6â‚¬ / 20H / Salle des fÃª
 tes - Place Bonsergent â€“ Malestroit (56)  Plus dâ€™infos :Â www.aupo
 ntdurock.com\n\nPour en savoir plus, rendez-vous sur http://www.breizh
 book.com/events/tremplin-festival-au-pont-du-rock-2013
DTSTART;TZID=Europe/Paris:20130223T200000
DTEND;TZID=Europe/Paris:20130223T234500
CATEGORIES:concert, tremplin, rock, morbihan, bretagne
LOCATION:Salle des fÃªtes
WEBSITE:http://www.aupontdurock.com
URL:http://www.aupontdurock.com
CONTACT:
ORGANIZER;CN="Au Pont du Rock":http://www.breizhbook.com/profile/auPon
 tduRock
ATTACH;FMTTYPE="image/jpeg":http://storage.ning.com/topology/rest/1.0/
 file/get/3198332544?profile=original
ATTENDEE;ROLE=REQ-PARTICIPANT;PARTSTAT=ACCEPTED;RSVP=TRUE;CN="Au Pont 
 du Rock":http://www.breizhbook.com/profile/auPontduRock
END:VEVENT
END:VCALENDAR
