BEGIN:VCALENDAR
PRODID:NingEventWidget-v1
VERSION:2.0
METHOD:PUBLISH
BEGIN:VTIMEZONE
TZID:Europe/Paris
X-LIC-LOCATION:Europe/Paris
BEGIN:DAYLIGHT
TZOFFSETFROM:+0100
TZOFFSETTO:+0200
TZNAME:CEST
DTSTART:19700329T020000
RRULE:FREQ=YEARLY;BYMONTH=3;BYDAY=-1SU
END:DAYLIGHT
BEGIN:STANDARD
TZOFFSETFROM:+0200
TZOFFSETTO:+0100
TZNAME:CET
DTSTART:19701025T030000
RRULE:FREQ=YEARLY;BYMONTH=10;BYDAY=-1SU
END:STANDARD
END:VTIMEZONE
BEGIN:VEVENT
UID:6339722:Event:171624
DTSTAMP:20260423T175259Z
SUMMARY:TOURNOI DE BEACH VOLLEY
DESCRIPTION:équipes mixtes ou pas de 3 joueurs , 9 terrains , nombreu
 x lots, pour volleyeurs confirmés ou non, 2 tournois organisés tout 
 l'après midi, 10€ par équipe, inscriptions sur place avant 13H\n\n
 Pour en savoir plus, rendez-vous sur http://www.breizhbook.com/events/
 tournoi-de-beach-volley
DTSTART;TZID=Europe/Paris:20130804T000000
DTEND;TZID=Europe/Paris:20130804T190000
CATEGORIES:tournoi, sportif
LOCATION:Landéda
WEBSITE:http://maps.google.com/?ll=48.603772,-4.593524&spn=0.00096,0.0
 01725&t=m&z=19&layer=c&cbll=48.603823,-4.593603&panoid=4xjPjjGv8u0DC0h
 XwnpY5g&cbp=12,358.68,,0,0
URL:http://maps.google.com/?ll=48.603772,-4.593524&spn=0.00096,0.00172
 5&t=m&z=19&layer=c&cbll=48.603823,-4.593603&panoid=4xjPjjGv8u0DC0hXwnp
 Y5g&cbp=12,358.68,,0,0
CONTACT:0685527851
ORGANIZER;CN=youn:http://www.breizhbook.com/profile/MADEC410
ATTACH;FMTTYPE="image/jpeg":
ATTENDEE;ROLE=REQ-PARTICIPANT;PARTSTAT=ACCEPTED;RSVP=TRUE;CN=youn:http
 ://www.breizhbook.com/profile/MADEC410
END:VEVENT
END:VCALENDAR
