BEGIN:VCALENDAR
PRODID:NingEventWidget-v1
VERSION:2.0
METHOD:PUBLISH
BEGIN:VTIMEZONE
TZID:Europe/Paris
X-LIC-LOCATION:Europe/Paris
BEGIN:DAYLIGHT
TZOFFSETFROM:+0100
TZOFFSETTO:+0200
TZNAME:CEST
DTSTART:19700329T020000
RRULE:FREQ=YEARLY;BYMONTH=3;BYDAY=-1SU
END:DAYLIGHT
BEGIN:STANDARD
TZOFFSETFROM:+0200
TZOFFSETTO:+0100
TZNAME:CET
DTSTART:19701025T030000
RRULE:FREQ=YEARLY;BYMONTH=10;BYDAY=-1SU
END:STANDARD
END:VTIMEZONE
BEGIN:VEVENT
UID:6339722:Event:133440
DTSTAMP:20260423T145524Z
SUMMARY:Tournée en Bretagne du 30 septembre au 15 octobre
DESCRIPTION:\n- SAINT ANDRE DES EAUX (22) dimanche 30 à 18 h, L'Eprou
 vette, Le Bourg, 02 96 82 26 42- BREST jeudi 4 à 21 h, Le Petit Montm
 artre, 136 r Robespierre 02 98 03 05 43 - 06 88 59 62 41- CLOHARS CARN
 OET (29) vendredi 5 à 21 h, Le Diabolo 12 rue de Lannevain, 06 87 37 
 18 97 - PLOULEC’H (22) samedi 6 à 21h30, Taverne d'Elfira, Kerloas
  Bras, 02 96 46 36 64 - QUERRIEN (29) vendredi 12 à 20 h, Le Pigeonn
 ier, 5 r de Quimperlé, 02 98 39 04 27- PONT AVEN (29) samedi 13 à 19
  h, Moulin du Grand Poulguin, Quai Botrel, 02 98 06 02 67\nEn plus de 
 ces concerts publics, on pourra aussi m'écouter ou me rencontrer à R
 ennes, Pacé et Bruz (35), Auray et Ploemeur (56), Pont l'Abbé, Brest
 , Gouesnou et Quimperlé (29). Détails et invitations sur demande par
  messagerie privée.\n\n\n\n\n\nPour en savoir plus, rendez-vous sur h
 ttp://www.breizhbook.com/events/tourn-e-en-bretagne-du-30-septembre-au
 -15-octobre
DTSTART;TZID=Europe/Paris:20120930T180000
DTEND;TZID=Europe/Paris:20121015T160000
CATEGORIES:concerts
LOCATION:Différents endroits en Bretagne
WEBSITE:http://www.francisweill.fr
URL:http://www.francisweill.fr
CONTACT:06 75 98 15 22
ORGANIZER;CN="Francis Weill":http://www.breizhbook.com/profile/Francis
 Weill
ATTACH;FMTTYPE="image/jpeg":http://storage.ning.com/topology/rest/1.0/
 file/get/3198325766?profile=original
ATTENDEE;ROLE=REQ-PARTICIPANT;PARTSTAT=ACCEPTED;RSVP=TRUE;CN="Francis 
 Weill":http://www.breizhbook.com/profile/FrancisWeill
END:VEVENT
END:VCALENDAR
