BEGIN:VCALENDAR
PRODID:NingEventWidget-v1
VERSION:2.0
METHOD:PUBLISH
BEGIN:VTIMEZONE
TZID:Europe/Paris
X-LIC-LOCATION:Europe/Paris
BEGIN:DAYLIGHT
TZOFFSETFROM:+0100
TZOFFSETTO:+0200
TZNAME:CEST
DTSTART:19700329T020000
RRULE:FREQ=YEARLY;BYMONTH=3;BYDAY=-1SU
END:DAYLIGHT
BEGIN:STANDARD
TZOFFSETFROM:+0200
TZOFFSETTO:+0100
TZNAME:CET
DTSTART:19701025T030000
RRULE:FREQ=YEARLY;BYMONTH=10;BYDAY=-1SU
END:STANDARD
END:VTIMEZONE
BEGIN:VEVENT
UID:6339722:Event:129867
DTSTAMP:20260423T163355Z
SUMMARY:This scene is from the finale of Sergio Leone's masterpiece
DESCRIPTION:This scene is from the finale of Sergio Leone's masterpiec
 e The Good, The Bad, and The Ugly. It is an unmistakable triumph of re
 plica michael kors watches the michael kors pursesWestern film genre.
  You may think that it was filmed in Old Tucson michael kors watches o
 n sale or perhaps just a short drive from Hollywood. But this classic 
 scene was filmed just north of Madrid, Spain. In fact, Leone and Clint
  Eastwood's entire Dollars trilogy was shot with Spain standing in for
  the American Southwest. \nThe court ruled that Fort Roughs, which Ba
 tes referred to as Sealand, was outside British jurisdiction as it was
  beyond the three mile limit of the michael kors outlet bags country's
  territorial waters. In 1975 Bates introduced a constitution for Seala
 nd, along with a flag, national anthem, currency and passports. \n211
  Andrew Coltart 73 69 69, Kenneth Ferrie 71 72 68, Nick Faldo 71 70 70
 , Joakim Haeggman (Swe) 69 73 69, Ian Woosnam 72 69 70, Santiago Luna 
 (Spa) 73 68 70, Alastair Forsyth 69 72 70, Miguel michael kors fulton
  shoulder bag Angel Martin (Spa) 69 72 70, Soren Hansen (Den) 66 71 7
 4.http://www.golfzonejp.com/ Rest of Irish: 212 Gary Murphy 66 70 76. 
 215 Paul McGinley 71 72 72. 220 michael kors handbags clearance Graeme
  McDowell 79 67 74. 222 Ronan Rafferty 75 77 70.\n\nPour en savoir plu
 s, rendez-vous sur http://www.breizhbook.com/events/this-scene-is-from
 -the-finale-of-sergio-leone-s-masterpiece
DTSTART;TZID=Europe/Paris:20120816T180000
DTEND;TZID=Europe/Paris:20120816T210000
CATEGORIES:birthday, party
LOCATION:London
WEBSITE:
URL:
CONTACT:
ORGANIZER;CN="willis surrey charles":http://www.breizhbook.com/profile
 /willissurreycharles
ATTACH;FMTTYPE="image/jpeg":
ATTENDEE;ROLE=REQ-PARTICIPANT;PARTSTAT=ACCEPTED;RSVP=TRUE;CN="willis s
 urrey charles":http://www.breizhbook.com/profile/willissurreycharles
END:VEVENT
END:VCALENDAR
