BEGIN:VCALENDAR
PRODID:NingEventWidget-v1
VERSION:2.0
METHOD:PUBLISH
BEGIN:VTIMEZONE
TZID:Europe/Paris
X-LIC-LOCATION:Europe/Paris
BEGIN:DAYLIGHT
TZOFFSETFROM:+0100
TZOFFSETTO:+0200
TZNAME:CEST
DTSTART:19700329T020000
RRULE:FREQ=YEARLY;BYMONTH=3;BYDAY=-1SU
END:DAYLIGHT
BEGIN:STANDARD
TZOFFSETFROM:+0200
TZOFFSETTO:+0100
TZNAME:CET
DTSTART:19701025T030000
RRULE:FREQ=YEARLY;BYMONTH=10;BYDAY=-1SU
END:STANDARD
END:VTIMEZONE
BEGIN:VEVENT
UID:6339722:Event:129422
DTSTAMP:20260423T163540Z
SUMMARY:this is what we started thinking about after reading
DESCRIPTION:Anyhow, this is what we started thinking about after readi
 ng the article Michael Kors Totes by Janet Rae-Dupree of the New Yor
 k Times business section. Although Rae-Dupree never uses the term, the
  real villain of the piece is a term most often used in politics, \"co
 nventional wisdom,\" a phrase implying that there's a lot more convent
 ion that wisdom can offer. In political terms, this kind of cliquish t
 hinking is often equated with timidity or even cowardice, but the stud
 ies Rae-Dupree cites suggest something a lot more basic to the human m
 ind. The impossibility of forgetting what you believe you know and the
  difficulty of imagining, if only for a moment, what michael kors outl
 et ny it's like to not know it. The result: products that are only use
 r friendly if the users michael kors rose gold watch happen to think j
 ust like designers and engineers, not salespeople, construction worker
 s, or poets.\nWhat is \"evolution of the soul?\" From the Webster's Di
 ctionary, the definition of evolution is: an unfolding; a process of d
 evelopment or change; a movement that is part of a series. Yes, this m
 akes sense. An unfolding, a process of development or change, a moveme
 nt that is part of a series. One knock off michael kors watches could 
 say that evolution is the process of the unfolding of the soul into an
 d through the world.\nWords have meaning, they are meant to www.micha
 elkorsa.com convey a message not hide it. A lousy video script is no 
 better than lousy print copy. Your Web-audience has no patience for mu
 mbo-jumbo that masquerades as information or for text and dialog that 
 says nothing in as many words as possible in an effort to attract mich
 ael kors watch rose gold the search engines. Words have meaning, say t
 hem with style and deliver them with conviction.\n\nPour en savoir plu
 s, rendez-vous sur http://www.breizhbook.com/events/this-is-what-we-st
 arted-thinking-about-after-reading
DTSTART;TZID=Europe/Paris:20120808T180000
DTEND;TZID=Europe/Paris:20120831T190000
CATEGORIES:birthday, party
LOCATION:London
WEBSITE:
URL:
CONTACT:
ORGANIZER;CN="willis surrey charles":http://www.breizhbook.com/profile
 /willissurreycharles
ATTACH;FMTTYPE="image/jpeg":
ATTENDEE;ROLE=REQ-PARTICIPANT;PARTSTAT=ACCEPTED;RSVP=TRUE;CN="willis s
 urrey charles":http://www.breizhbook.com/profile/willissurreycharles
END:VEVENT
END:VCALENDAR
