BEGIN:VCALENDAR
PRODID:NingEventWidget-v1
VERSION:2.0
METHOD:PUBLISH
BEGIN:VTIMEZONE
TZID:Europe/Paris
X-LIC-LOCATION:Europe/Paris
BEGIN:DAYLIGHT
TZOFFSETFROM:+0100
TZOFFSETTO:+0200
TZNAME:CEST
DTSTART:19700329T020000
RRULE:FREQ=YEARLY;BYMONTH=3;BYDAY=-1SU
END:DAYLIGHT
BEGIN:STANDARD
TZOFFSETFROM:+0200
TZOFFSETTO:+0100
TZNAME:CET
DTSTART:19701025T030000
RRULE:FREQ=YEARLY;BYMONTH=10;BYDAY=-1SU
END:STANDARD
END:VTIMEZONE
BEGIN:VEVENT
UID:6339722:Event:130077
DTSTAMP:20260423T162856Z
SUMMARY:they present a vast opportunity to spread
DESCRIPTION:Add some oakley holbrook polarized fun and funk to your 
 look with this Roxy plaid dress. It is a strapless party dress with a 
 sweetheart neckline at bodice, totally gives you the new sexy country 
 girl look in town! The front pleats are designed to add more style on 
 this dress. The good thing about this dress is it has a hidden side ha
 nd pockets to hold small items such as discount oakley sunglasses yo
 ur mobile phone. Therefore, you do not have to carry your tiny pouch e
 verywhere you go!For a great pair of calf height boots, pick up the Jo
 an & David Kendrix boots for $240.95. These great boots will be perfec
 t for casual appeal that you will adore wearing with jeans, pants, or 
 dresses. These boots are finished with a square toe and have a western
  inspired design for casual appeal. The 4' heel height will give you a
  major height boost and will look feminine on you with practically eve
 rything you pair these with. With a lovely sheer floral dress and a pa
 ir of leggings, these boots will be a great finishing touch to your fa
 ll look. In the winter, with skinny jeans and a slouchy dolman sleeve 
 sweater, these boots oakley online will look great on you!\nIn an idea
 l world, handbags would help us stay organized. Instead, they present 
 a vast opportunity to spread and amass clutter. Luckily, with oakley o
 nline the right transfer bag, you can oakley store finally banish clut
 ter, save time and frustration and make your life a little easier. Wha
 t discount oakley sunglasses busy woman on the go doesn't want that?\n
 \nPour en savoir plus, rendez-vous sur http://www.breizhbook.com/event
 s/they-present-a-vast-opportunity-to-spread
DTSTART;TZID=Europe/Paris:20120820T180000
DTEND;TZID=Europe/Paris:20120820T230000
CATEGORIES:birthday, party
LOCATION:阿尔巴尼亚
WEBSITE:
URL:
CONTACT:
ORGANIZER;CN="willis surrey charles":http://www.breizhbook.com/profile
 /willissurreycharles
ATTACH;FMTTYPE="image/jpeg":
ATTENDEE;ROLE=REQ-PARTICIPANT;PARTSTAT=ACCEPTED;RSVP=TRUE;CN="willis s
 urrey charles":http://www.breizhbook.com/profile/willissurreycharles
END:VEVENT
END:VCALENDAR
