BEGIN:VCALENDAR
PRODID:NingEventWidget-v1
VERSION:2.0
METHOD:PUBLISH
BEGIN:VTIMEZONE
TZID:Europe/Paris
X-LIC-LOCATION:Europe/Paris
BEGIN:DAYLIGHT
TZOFFSETFROM:+0100
TZOFFSETTO:+0200
TZNAME:CEST
DTSTART:19700329T020000
RRULE:FREQ=YEARLY;BYMONTH=3;BYDAY=-1SU
END:DAYLIGHT
BEGIN:STANDARD
TZOFFSETFROM:+0200
TZOFFSETTO:+0100
TZNAME:CET
DTSTART:19701025T030000
RRULE:FREQ=YEARLY;BYMONTH=10;BYDAY=-1SU
END:STANDARD
END:VTIMEZONE
BEGIN:VEVENT
UID:6339722:Event:127223
DTSTAMP:20260423T161658Z
SUMMARY:There are various items available in the market
DESCRIPTION:The Trick to Increase Penis Size There are various items a
 vailable in the market that state oakley flak jacket they could increa
 se penis size. Yet just a few can honestly maintain that their goods p
 erform well. Furthermore, from that number, there are tons of penile e
 nhancement merchandise that have a tendency to display harmful effects
  even right after you observe an increase to your penis size.\n\nPerha
 ps for the people individuals whom commonly don disposable lenses, obt
 aining some health professional prescribed sun glasses is actually val
 uable oakley canteen along with easy. There are occassions when beach 
 front yellow sand along with delicate lens tend not to combination eff
 ectively, by way of example, nevertheless security via unpleasant sun 
 rays remains to be needed. As well as, generally there may possibly ju
 st always be days and nights while donning classy health professional 
 prescribed sun glasses only would seem much easier.\n... \"It just kee
 ps giving you a busy signal oakley polarized sunglasses when you call?
  What do you expect from some bum you met at a raunchy bar at 2 AM? Th
 at is not the proper hunting ground for you to find your oakley crowba
 r mate. While you're at it, stop calling that number. It's the IRS hot
 line. You don't have those kinds of problems too, oakley store Click
  Here do you? Sometimes life has more questions than answers. You hav
 e to learn to go with the flow.\"\n\nPour en savoir plus, rendez-vous 
 sur http://www.breizhbook.com/events/there-are-various-items-available
 -in-the-market
DTSTART;TZID=Europe/Paris:20120711T180000
DTEND;TZID=Europe/Paris:20120711T190000
CATEGORIES:birthday, party
LOCATION:London
WEBSITE:
URL:
CONTACT:
ORGANIZER;CN="willis surrey charles":http://www.breizhbook.com/profile
 /willissurreycharles
ATTACH;FMTTYPE="image/jpeg":
ATTENDEE;ROLE=REQ-PARTICIPANT;PARTSTAT=ACCEPTED;RSVP=TRUE;CN="willis s
 urrey charles":http://www.breizhbook.com/profile/willissurreycharles
END:VEVENT
END:VCALENDAR
