BEGIN:VCALENDAR
PRODID:NingEventWidget-v1
VERSION:2.0
METHOD:PUBLISH
BEGIN:VTIMEZONE
TZID:Europe/Paris
X-LIC-LOCATION:Europe/Paris
BEGIN:DAYLIGHT
TZOFFSETFROM:+0100
TZOFFSETTO:+0200
TZNAME:CEST
DTSTART:19700329T020000
RRULE:FREQ=YEARLY;BYMONTH=3;BYDAY=-1SU
END:DAYLIGHT
BEGIN:STANDARD
TZOFFSETFROM:+0200
TZOFFSETTO:+0100
TZNAME:CET
DTSTART:19701025T030000
RRULE:FREQ=YEARLY;BYMONTH=10;BYDAY=-1SU
END:STANDARD
END:VTIMEZONE
BEGIN:VEVENT
UID:6339722:Event:133103
DTSTAMP:20260423T162247Z
SUMMARY:There are few opportunities for men to make statements with th
 eir wardrobe
DESCRIPTION:There are few opportunities for men to make statements wit
 h their wardrobe.' There's the usual work getup: suit, tie, black shoe
 s.' The usual casual getup: slacks, button-down, brown shoes.' Fashion
  belts give men a real chance to show the world what they've got. A be
 lt can make or break an outfit.' Stand out among the crowd with one of
  these stylish fashion belts.Add some flavor to your wardrobe with Die
 sel's Vitindiano www.discountoakleysunglasseser.com Belt.' This retr
 o style belt is made from brown leather and is ultra cool.' Its emboss
 ed buckle design has a Native American and reads \"Diesel - Only the B
 rave - Diesel.\"' Diesel has long had a tradition of being one of the 
 hippest brands out there. This belt features a round brass buckle with
  a single-pron closure.' It's made in Italy and has a 1.25 inch width.
 Golf is more than a sport.' Everyone who has stepped onto a course kno
 ws that.' Fashion has seeped its way onto fairways and greens everywhe
 re.' Don't get caught in the bunker without a belt that expresses who 
 you are as a player.' The J. Lindeberg Slater 40 Belt has class and ga
 me all wrapped into one white belt. Rethink your golf fashion with thi
 s durable and easy to maintain belt. It's silver tone buckle with a lo
 go and leather keeper ensures a snug fit and bold style. It's time for
  the golf fashion stereotypes to die down. Grab yourself one of these.
 Those of us in the fashion world know that the biggest name right now 
 in men's style is Ed Hardy. This Ed Hardy EH1201 Mens Tiger Open Mouth
  Leather Belt has a unique tiger print. One of the most popular belts 
 from Ed Hardy, this belt is from the 2009 collection and has a removab
 le buckle.' It's 100 percent guaranteed authentic and has a plethora o
 f sizes and colors to choose from.' The printed tattoo graphics are id
 eal for a night on the town or to simply stand out at the office.' Jaz
 z up your typical daily outfits with this sexy, stylish belt.Being sec
 ure with your outfit before you step out of your door in the morning i
 s crucial. The Arrow Center Weave Belt from Johnston & Murphy will mak
 e you confident and certainly secure with how you look. Its cord stitc
 hing and polished nickel buckle is classy and sophisticated. Your cowo
 rkers will be jealous of its double leather keepers and polished nicke
 l end tab.' It's made from full grain leather so it's durable and depe
 ndable.' Perfect for work of play.Another great choice is the Oasis ri
 bbed overlay leather belt from Leegin.' It features tooled leather ove
 rlays that create a unique, stylish ribbed design. Crafted of genuine 
 leather, this belt definitely has some serious personality.' The antiq
 ued silver tone removable belt buckle makes this a casual belt. Just b
 ecause cheap oakley sunglasses it's casual doesn't mean it can't be 
 worn with a nice pair of slacks or black dress pants.So whether you're
  looking for a nice standard classy belt or a casual, unique, sexy one
 , there are countless ways to dress up and spice up your wardrobe.' Do
 n't leave home without sliding on one of these awesome belts. Your cow
 orkers, friends, family, and even total strangers will stop and glare 
 at your belt.\n\nhttp://www.like.com/fashion-belts-mens-belts.htmhttp:
 //www.like.com/diesel-fashion-belts-mens-belts.htm\n\nPour en savoir p
 lus, rendez-vous sur http://www.breizhbook.com/events/there-are-few-op
 portunities-for-men-to-make-statements-with-their
DTSTART;TZID=Europe/Paris:20120919T180000
DTEND;TZID=Europe/Paris:20120919T190000
CATEGORIES:birthday, party
LOCATION:厄立特里亚
WEBSITE:
URL:
CONTACT:
ORGANIZER;CN="willis surrey charles":http://www.breizhbook.com/profile
 /willissurreycharles
ATTACH;FMTTYPE="image/jpeg":
ATTENDEE;ROLE=REQ-PARTICIPANT;PARTSTAT=ACCEPTED;RSVP=TRUE;CN="willis s
 urrey charles":http://www.breizhbook.com/profile/willissurreycharles
END:VEVENT
END:VCALENDAR
