BEGIN:VCALENDAR
PRODID:NingEventWidget-v1
VERSION:2.0
METHOD:PUBLISH
BEGIN:VTIMEZONE
TZID:Europe/Paris
X-LIC-LOCATION:Europe/Paris
BEGIN:DAYLIGHT
TZOFFSETFROM:+0100
TZOFFSETTO:+0200
TZNAME:CEST
DTSTART:19700329T020000
RRULE:FREQ=YEARLY;BYMONTH=3;BYDAY=-1SU
END:DAYLIGHT
BEGIN:STANDARD
TZOFFSETFROM:+0200
TZOFFSETTO:+0100
TZNAME:CET
DTSTART:19701025T030000
RRULE:FREQ=YEARLY;BYMONTH=10;BYDAY=-1SU
END:STANDARD
END:VTIMEZONE
BEGIN:VEVENT
UID:6339722:Event:121651
DTSTAMP:20260423T194542Z
SUMMARY:The very humble plimsoll has been through a huge
DESCRIPTION:The very humble plimsoll has been through a huge transform
 ationsince it first stumbled on importance within the P.E. totes on mo
 st students. Backin those times all of us frequently referred to becom
 ing your 锟斤拷pump', nevertheless the plimsoll hastaken with a com
 pletely new identity whilst maintaining lots of it's unique capabiliti
 es.\nThe traditional cleaned look along with donned only involving pli
 msollshas built them into an important choice of shoes for cheap oakl
 eys anyone trying to follow acasual developer search. Their oakley hi
 jinx new-found recognition also depends on theiraffordability since yo
 u can quickly obtain a number of twos for the small fraction ofwhat it
  would set you back to get numerous top quality guys coaches and oakle
 y sunglass sale womenstrainers.\nMany men and women believe the partic
 ular plimsoll can be a boot oakley sunglasses cheap in which shouldo
 nly be used through the summer season yet this is far from true. Putti
 ng on some ofplimsolls throughout the cooler as well as wetter months 
 of the year will still only enhancethem as oakley sunglasses outlet 
 they may further develop inside character whether receive contactwith 
 rainwater, sleet or even snowfall.\nThere is actually even so without 
 a doubt which oakleys on sale they carry out look best using astylish 
 pair of bermuda, shoes along with sun shades inside a hot weather. Bec
 ause of themultiple colour options available when you are looking to p
 urchase a plimsoll oakley sunglass sale itoffers the possibility to lo
 cate one to match just about any style of laid-back attire.\nBuild up 
 oakley sunglass us an accumulation plimsolls and you will discover the
 ir whereabouts tobe important. There is a plimsoll on the market perta
 ining to virtually every kind ofattire.\nFor more please see our websi
 te: http://www.cheapoakleysunglassessonline.com/\n\nPour en savoir plu
 s, rendez-vous sur http://www.breizhbook.com/events/the-very-humble-pl
 imsoll-has-been-through-a-huge
DTSTART;TZID=Europe/Paris:20120602T180000
DTEND;TZID=Europe/Paris:20120602T190000
CATEGORIES:party
LOCATION:ghfghfhfgfg
WEBSITE:
URL:
CONTACT:
ORGANIZER;CN="asdfg asdf green":http://www.breizhbook.com/profile/asdf
 gasdfgreen
ATTACH;FMTTYPE="image/jpeg":
ATTENDEE;ROLE=REQ-PARTICIPANT;PARTSTAT=ACCEPTED;RSVP=TRUE;CN="asdfg as
 df green":http://www.breizhbook.com/profile/asdfgasdfgreen
END:VEVENT
END:VCALENDAR
