BEGIN:VCALENDAR
PRODID:NingEventWidget-v1
VERSION:2.0
METHOD:PUBLISH
BEGIN:VTIMEZONE
TZID:Europe/Paris
X-LIC-LOCATION:Europe/Paris
BEGIN:DAYLIGHT
TZOFFSETFROM:+0100
TZOFFSETTO:+0200
TZNAME:CEST
DTSTART:19700329T020000
RRULE:FREQ=YEARLY;BYMONTH=3;BYDAY=-1SU
END:DAYLIGHT
BEGIN:STANDARD
TZOFFSETFROM:+0200
TZOFFSETTO:+0100
TZNAME:CET
DTSTART:19701025T030000
RRULE:FREQ=YEARLY;BYMONTH=10;BYDAY=-1SU
END:STANDARD
END:VTIMEZONE
BEGIN:VEVENT
UID:6339722:Event:117869
DTSTAMP:20260423T182146Z
SUMMARY:The Maggie Whackers au Buck Mulligan's, le 10 Mai !!!
DESCRIPTION:The Maggie Whackers au Buck Mulligan's le 10 Mai, venez no
 mbreux, ambiance chaleureuse, houblonnée et maltée à souhait !!!\n\
 nPour en savoir plus, rendez-vous sur http://www.breizhbook.com/events
 /the-maggie-whackers-au-buck-mulligan-s-le-10-mai
DTSTART;TZID=Europe/Paris:20120510T213000
DTEND;TZID=Europe/Paris:20120510T233000
CATEGORIES:concert
LOCATION:Buck Mulligan's
WEBSITE:http://www.noomiz.com/TheMaggieWhackers
URL:http://www.noomiz.com/TheMaggieWhackers
CONTACT:REMAUD Lawryn 0633724944
ORGANIZER:Buck Mulligan's/The Maggie Whackers
ATTACH;FMTTYPE="image/jpeg":
ATTENDEE;ROLE=REQ-PARTICIPANT;PARTSTAT=ACCEPTED;RSVP=TRUE;CN="The Magg
 ie Whackers":http://www.breizhbook.com/profile/TheMaggieWhackers
END:VEVENT
END:VCALENDAR
