BEGIN:VCALENDAR
PRODID:NingEventWidget-v1
VERSION:2.0
METHOD:PUBLISH
BEGIN:VTIMEZONE
TZID:Europe/Paris
X-LIC-LOCATION:Europe/Paris
BEGIN:DAYLIGHT
TZOFFSETFROM:+0100
TZOFFSETTO:+0200
TZNAME:CEST
DTSTART:19700329T020000
RRULE:FREQ=YEARLY;BYMONTH=3;BYDAY=-1SU
END:DAYLIGHT
BEGIN:STANDARD
TZOFFSETFROM:+0200
TZOFFSETTO:+0100
TZNAME:CET
DTSTART:19701025T030000
RRULE:FREQ=YEARLY;BYMONTH=10;BYDAY=-1SU
END:STANDARD
END:VTIMEZONE
BEGIN:VEVENT
UID:6339722:Event:130423
DTSTAMP:20260423T164410Z
SUMMARY:The HyundaiEon Magna variantwould feature all of the above
DESCRIPTION:The HyundaiEon Magna variantwould feature all of the abo
 ve mentioned features in addition of thebigger 155/70 r 13 tubeless ty
 res, Full wheel cover, Steel wheel cheap oakleys withblack finish, Cen
 tral locking (driver side), Passenger side OSRVM,Moulded door trims, F
 ront door map pockets (driver and co driver),Speaker grill-RR boot, In
 ternally adjustable OSRVMS, Front oakley sunglasses cheap powerwindo
 ws, Micro roof antenna, Front door full size armrest and Tiltsteering.
  The Hyundai Eon Magna (O) variant features Audio(CD/MP3/FM/AM), USB a
 nd aux-I, 2 speakers only (front doors) and Rearparcel tray.\nAbove oa
 kley outlet all of these measures, oakleysunglasses please consider th
 e implications of being chronically dehydrated. Are you guilty of not 
 providing your body with enough pure water consumption? Would you rath
 er drink anything else but water? When you are not providing yourself 
 with enough of your body's preferred beverage, it is going to rob you 
 of real energy.The actual athletics sun shades support frames availabl
 e are just like significant as the lens you ultimately choose. Sports 
 sunglasses frames are available in light and durable frame supplies in
 cluding polyamide which ensures you keep the idea design even when bel
 ow anxiety. Goggle frames made of much softer flexible materials just 
 like silicone, nylon along with propionate be exceptional because they
  carry their particular design and won't turn out to be breakable insi
 de the cold conditions any time snow skiing or perhaps baseball and th
 erefore will not damage your face. It oakley frogskins polarized is 
 possible to discover high quality cheaper shades, reproduction sun gla
 sses and oakley sunglasses cheap Sports sunglasses support frames to s
 upport whichever sporting exercise you decide to engage in.\n\nPour en
  savoir plus, rendez-vous sur http://www.breizhbook.com/events/the-hyu
 ndaieon-magna-variantwould-feature-all-of-the-above
DTSTART;TZID=Europe/Paris:20120822T180000
DTEND;TZID=Europe/Paris:20120831T190000
CATEGORIES:birthday, party
LOCATION:美属萨摩亚
WEBSITE:
URL:
CONTACT:
ORGANIZER;CN="willis surrey charles":http://www.breizhbook.com/profile
 /willissurreycharles
ATTACH;FMTTYPE="image/jpeg":
ATTENDEE;ROLE=REQ-PARTICIPANT;PARTSTAT=ACCEPTED;RSVP=TRUE;CN="willis s
 urrey charles":http://www.breizhbook.com/profile/willissurreycharles
END:VEVENT
END:VCALENDAR
