BEGIN:VCALENDAR
PRODID:NingEventWidget-v1
VERSION:2.0
METHOD:PUBLISH
BEGIN:VTIMEZONE
TZID:Europe/Paris
X-LIC-LOCATION:Europe/Paris
BEGIN:DAYLIGHT
TZOFFSETFROM:+0100
TZOFFSETTO:+0200
TZNAME:CEST
DTSTART:19700329T020000
RRULE:FREQ=YEARLY;BYMONTH=3;BYDAY=-1SU
END:DAYLIGHT
BEGIN:STANDARD
TZOFFSETFROM:+0200
TZOFFSETTO:+0100
TZNAME:CET
DTSTART:19701025T030000
RRULE:FREQ=YEARLY;BYMONTH=10;BYDAY=-1SU
END:STANDARD
END:VTIMEZONE
BEGIN:VEVENT
UID:6339722:Event:129360
DTSTAMP:20260423T163553Z
SUMMARY:The Daily Record recently reported that Michael Jackson
DESCRIPTION:1. Point to point teleconferencing ? In this kind of video
  conferencing, real time communication can take place among an unlimit
 ed number of users present in two separate locations. This type of tel
 econferencing works best for small businesses not having more than a s
 ingle branch office. It does not require any major technical set up an
 d you can start with simple dial-up, compatible codec equipment and sw
 itched network services.\nI michael kors http://www.michaelkorsa.com/
 2012-new-arrivals-c-7.html outlet online made this point to a group o
 f clients during the course of a recent workshop, having discussed exc
 eptionally successful people such as Michael Johnson and Muhammad Ali.
  One participant made the point that these high achievers and people l
 ike them had to work very hard indeed to get to the top. In response, 
 I suggested that there is a world of difference between hard work and 
 a labour of love. In other words, hard work - a little like beauty - i
 s solely in the mind of the beholder! You can either struggle through 
 life, with no big goals in sight, believing that michael kors mens wal
 let you're consigned to the routine of hard work, or you can do what h
 as to be done to scale the michael michael kors handbags heights of ef
 fortless success and all the self-fulfilment that goes with it.\nEven 
 in death he will continue making money although he michael kors watche
 s macys won’t be able to take pleasure in it. The Daily Record recen
 tly reported that Michael Jackson has earned £60m since his death and
  that he could exceed the posthumous business empire of the late Elvis
  Presley. A book on Michael’s life featuring never before seen lyric
 s, a movie and a tribute to him will all appear soon but michael kors
  outlet who will gain from them?\n\nPour en savoir plus, rendez-vous 
 sur http://www.breizhbook.com/events/the-daily-record-recently-reporte
 d-that-michael-jackson
DTSTART;TZID=Europe/Paris:20120810T000000
DTEND;TZID=Europe/Paris:20120810T235900
CATEGORIES:birthday, party
LOCATION:London
WEBSITE:
URL:
CONTACT:
ORGANIZER;CN="willis surrey charles":http://www.breizhbook.com/profile
 /willissurreycharles
ATTACH;FMTTYPE="image/jpeg":
ATTENDEE;ROLE=REQ-PARTICIPANT;PARTSTAT=ACCEPTED;RSVP=TRUE;CN="willis s
 urrey charles":http://www.breizhbook.com/profile/willissurreycharles
END:VEVENT
END:VCALENDAR
