BEGIN:VCALENDAR
PRODID:NingEventWidget-v1
VERSION:2.0
METHOD:PUBLISH
BEGIN:VTIMEZONE
TZID:Europe/Paris
X-LIC-LOCATION:Europe/Paris
BEGIN:DAYLIGHT
TZOFFSETFROM:+0100
TZOFFSETTO:+0200
TZNAME:CEST
DTSTART:19700329T020000
RRULE:FREQ=YEARLY;BYMONTH=3;BYDAY=-1SU
END:DAYLIGHT
BEGIN:STANDARD
TZOFFSETFROM:+0200
TZOFFSETTO:+0100
TZNAME:CET
DTSTART:19701025T030000
RRULE:FREQ=YEARLY;BYMONTH=10;BYDAY=-1SU
END:STANDARD
END:VTIMEZONE
BEGIN:VEVENT
UID:6339722:Event:132337
DTSTAMP:20260423T145243Z
SUMMARY:The crowning glory from the handset is its mp3 quality
DESCRIPTION:Typically the countdown to Replica Handbags, Bose Quiet Co
 mfort 15 Vs Dr Dre Monster Beats, Bose Quiet Comfort 15 Vs Dr Dre Mons
 ter Beats, Oakley Sunglasses, Dr Dre Headphones - Are the \"Monster Be
 ats\" Noise Cancelling Headphones by Dr Dre a Good Buy? Internet brows
 ing over the phone a breeze. AudioThe crowning glory from the handset
  is its mp3 quality, which has received an enormous boost thanks to al
 l the company's partnership with Tones by Dr. Dre (yes, that Dr. Dre).
  When combined with the Beats in-ear earbuds, the Sensation XE automat
 ically switches in the Dr. Dre sound profile that will optimize the so
 und of the audio tracks that you're following. Bass, in particular, re
 ceives an enormous boost. Songs that aren't big on bass can also be no
 ticeably sharper and clearer when played in the HTC Sensation XE phone
  as compared to other mobile phones. It's not in the music files whic
 h the audio quality of the HTC XE smartphone has been optimized. The a
 udio of your movies are likewise optimized, so you can finally say goo
 dbye to the tinny sounds that mobile phone are known to produce when p
 laying films. Other featuresThe HTC Sensation XE phone comes with an 
 8 mp camera by oakley frogskins means of LED flash. The camera aids 
 you take HD videos within 1080p. It also offers auto-focus, Geotagging
 , image stabilization, facial area detection, and instant grab among i
 ts features. Comes with 768 MB MEMORY and 4 GB internal memory and th
 at is expanded by up to help 32 GB. The phone has also an FM radio, B
 luetooth connectivity, Wi-Fi, and GPRS. The battery of the handset ca
 rries a lot of power located at 1, 730mAh, allowing lots of communicat
 e time and music listening in a charge. The HTC Sensation XE cell is 
 a nifty little phone to acquire, especially for music buffs who use th
 eir mobile phone as a music player additionally. If you want some sort
  of sleek phone that puts today's portable music avid gamers to shame,
  this stands out as the phone for you. The htc desire is expected htt
 p://www.discountoakleysunglasseser.com/ to come to be released Decemb
 er 2011. .If you're into music in a serious way, then you need to get
  the best sound quality that anyone can. In addition, you want to be a
 ble to listen to your music on the road and look good whilst you're do
 ing the same, right? If this may sound like you, then you'll want answ
 ered more about Dr Dre headsets. In this article we analyze their capa
 bilities and explain where cheap beats by dre headphones is available.
  Monster has managed to mix style with functionality inside Dr Dre ra
 nge about headphones. So often manufacturers sacrifice one for any oth
 er, but not in this article. Not only do individuals look good, but a 
 sound quality is decent too. Sounds are well balanced mainly, with a 
 warm mid range and thumping perch. With some bass heavy headphones the
  sound turn into \"muddy\" and unclear, but this isn't the outcome wit
 h the Beats by way of Dr Dre.\n\nPour en savoir plus, rendez-vous sur 
 http://www.breizhbook.com/events/the-crowning-glory-from-the-handset-i
 s-its-mp3-quality
DTSTART;TZID=Europe/Paris:20120915T180000
DTEND;TZID=Europe/Paris:20120930T190000
CATEGORIES:the, crowning, glory, from, handset, is, its, mp3, quality
LOCATION:塞浦路斯
WEBSITE:
URL:
CONTACT:
ORGANIZER;CN="willis surrey charles":http://www.breizhbook.com/profile
 /willissurreycharles
ATTACH;FMTTYPE="image/jpeg":
ATTENDEE;ROLE=REQ-PARTICIPANT;PARTSTAT=ACCEPTED;RSVP=TRUE;CN="willis s
 urrey charles":http://www.breizhbook.com/profile/willissurreycharles
END:VEVENT
END:VCALENDAR
