BEGIN:VCALENDAR
PRODID:NingEventWidget-v1
VERSION:2.0
METHOD:PUBLISH
BEGIN:VTIMEZONE
TZID:Europe/Paris
X-LIC-LOCATION:Europe/Paris
BEGIN:DAYLIGHT
TZOFFSETFROM:+0100
TZOFFSETTO:+0200
TZNAME:CEST
DTSTART:19700329T020000
RRULE:FREQ=YEARLY;BYMONTH=3;BYDAY=-1SU
END:DAYLIGHT
BEGIN:STANDARD
TZOFFSETFROM:+0200
TZOFFSETTO:+0100
TZNAME:CET
DTSTART:19701025T030000
RRULE:FREQ=YEARLY;BYMONTH=10;BYDAY=-1SU
END:STANDARD
END:VTIMEZONE
BEGIN:VEVENT
UID:6339722:Event:128355
DTSTAMP:20260423T181825Z
SUMMARY:The best way to Decorate a Dorm Area
DESCRIPTION:Dorm rooms are rather fun to decorate! How can we decorate
  a dorm space for making it seem good? Listed here are some guidelines
  in this short article to help you. Obviously, just about every colleg
 e has guidelines that we have to comply with. We can not paint the wal
 ls a ton of various vibrant neon colours. So what is it you need? You 
 need to have some posters to oakley clearanceyour room. You recognize 
 those posters of one's favourite hot film actor or actress along with 
 your preferred bands.\nA further thing that you just may well need to 
 have to make it easier to is really a calender on your wall to help ke
 ep you organized Oakley Active Sunglasses during the college year. A l
 arge oakley salecalender is very best to keep track of your busy sched
 ule throughout the year. Some other college college students want to d
 isplay images of their most effective friends and family around the wa
 lls. It is possible to also decorate your area with stuffed animals wh
 ich include teddy bears. Ensure to not crowed your room with stuffed a
 nimals. You may also have a handful of rugs within the floor when you 
 just like the designs on several of them.\nBe inventive with decoratin
 g a dorm room. Try to remember, you may constantly redecorate during t
 he middle on cheap oakley sunglasses the college year. A fresh adjust 
 in decoration is always superior. A number of people prefer fake cheap
  oakley sunglasses sale oakley sunglasses outlet to hang dream catcher
 s about the walls. Some desire to hang hats within the walls or maybe 
 some sunglasses. Dorm rooms are anything cheap oakley flak jacket sung
 lasses which will be decorated in many different types. Just after all
 , they don't count on college college students to get best standard de
 coration like your grandmothers home.\nYou'll need to bring some lamps
  to decorate your dorm space. They've some nifty lamps at the outlets.
  Additionally you want to bring a fan considering the fact that the ai
 r conditioner does not function incredibly very well in dorm rooms occ
 asionally. You could desire to bring a modest mirror to place on the w
 all. You could also put some night stands in the space. You should bri
 ng a dresser plus a few cheap fake replica oakleys shelfs to organize 
 your stuff.\nYou also want to bring a comforter and some fluffy pillow
 s. You would like to get a little something that is somewhat bright co
 lored. Whenever you have brilliant colours in a room then it seems to 
 make it somewhat more lighter in there. Dark colors tend to produce a 
 location search dark. Additionally you want to bring a tv stand in cas
 e you bringing a television oakley salewith you. You may need to make 
 certain that you've ample area for all the things to match within your
  dorm area.\nYou'll need to bring an alarm clock. Bring a lot of pens 
 and pencils to utilize during the school year. You will need to also b
 ring some Christmas lights which means you can decorate while in Chris
 tmas time. A little little Christmas tree often add a additional touch
  to a dorm room. Decorating at Christmas time is normally fun!\n\nPour
  en savoir plus, rendez-vous sur http://www.breizhbook.com/events/the-
 best-way-to-decorate-a-dorm-area
DTSTART;TZID=Europe/Paris:20120723T180000
DTEND;TZID=Europe/Paris:20120723T190000
CATEGORIES:party
LOCATION:fujian
WEBSITE:
URL:
CONTACT:
ORGANIZER;CN=linserena3303:http://www.breizhbook.com/profile/linserena
 3303
ATTACH;FMTTYPE="image/jpeg":
ATTENDEE;ROLE=REQ-PARTICIPANT;PARTSTAT=ACCEPTED;RSVP=TRUE;CN=linserena
 3303:http://www.breizhbook.com/profile/linserena3303
END:VEVENT
END:VCALENDAR
