BEGIN:VCALENDAR
PRODID:NingEventWidget-v1
VERSION:2.0
METHOD:PUBLISH
BEGIN:VTIMEZONE
TZID:Europe/Paris
X-LIC-LOCATION:Europe/Paris
BEGIN:DAYLIGHT
TZOFFSETFROM:+0100
TZOFFSETTO:+0200
TZNAME:CEST
DTSTART:19700329T020000
RRULE:FREQ=YEARLY;BYMONTH=3;BYDAY=-1SU
END:DAYLIGHT
BEGIN:STANDARD
TZOFFSETFROM:+0200
TZOFFSETTO:+0100
TZNAME:CET
DTSTART:19701025T030000
RRULE:FREQ=YEARLY;BYMONTH=10;BYDAY=-1SU
END:STANDARD
END:VTIMEZONE
BEGIN:VEVENT
UID:6339722:Event:216810
DTSTAMP:20260423T181326Z
SUMMARY:Stand Adoption
DESCRIPTION:En ce samedi 30 Novembre l'APAA de Trégrom se rends à G
 uingamp pour une nouveauté qui est un stand adoption, une façon pou
 r nous, de nous faire connaître et laisser une seconde chance à nos 
 loulous.\nCela se déroule de 10h à 18h à l'animalerie \"Instinct An
 imal\" dans la galerie de Leader Price.\nMerci de faire tourner si pos
 sible.\n\nPour en savoir plus, rendez-vous sur http://www.breizhbook.c
 om/events/stand-adoption
DTSTART;TZID=Europe/Paris:20131130T100000
DTEND;TZID=Europe/Paris:20131130T180000
CATEGORIES:journée, adoption
LOCATION:Guingamp
WEBSITE:http://www.apaa.asso.fr/
URL:http://www.apaa.asso.fr/
CONTACT:
ORGANIZER;CN=Touds:http://www.breizhbook.com/profile/MarionToudic
ATTACH;FMTTYPE="image/jpeg":http://storage.ning.com/topology/rest/1.0/
 file/get/3198364231?profile=original
ATTENDEE;ROLE=REQ-PARTICIPANT;PARTSTAT=ACCEPTED;RSVP=TRUE;CN=Touds:htt
 p://www.breizhbook.com/profile/MarionToudic
END:VEVENT
END:VCALENDAR
