BEGIN:VCALENDAR
PRODID:NingEventWidget-v1
VERSION:2.0
METHOD:PUBLISH
BEGIN:VTIMEZONE
TZID:Europe/Paris
X-LIC-LOCATION:Europe/Paris
BEGIN:DAYLIGHT
TZOFFSETFROM:+0100
TZOFFSETTO:+0200
TZNAME:CEST
DTSTART:19700329T020000
RRULE:FREQ=YEARLY;BYMONTH=3;BYDAY=-1SU
END:DAYLIGHT
BEGIN:STANDARD
TZOFFSETFROM:+0200
TZOFFSETTO:+0100
TZNAME:CET
DTSTART:19701025T030000
RRULE:FREQ=YEARLY;BYMONTH=10;BYDAY=-1SU
END:STANDARD
END:VTIMEZONE
BEGIN:VEVENT
UID:6339722:Event:117499
DTSTAMP:20260423T144910Z
SUMMARY:Stages, cours et formations de sculpture et volume 2012 à Van
 nes en Bretagne sud
DESCRIPTION:Stages, cours et formations de sculpture et volume 2012 à
  Vannes en Bretagne sud\nStages:\nEn juillet, août et septembre 2012\
 nBois, pierre, plâtre, terre, grillage, papier, divers… Par modules
  de 5 jours. Orientés sur la créativité personnelle, le plaisir de 
 créer plutôt que de copier. Pour adultes ou adolescents, débutants 
 ou confirmés.\nCours hebdomadaires Formation continue à la carte.\n*
 **Agrément formation continue\nLogement possible à proximité Rensei
 gnements sur simple demande : Joël STRILL sculpteur 18 bis impasse du
  petit conleau 56000 Vannes\n Vous pouvez prendre rendez-vous par le 
 site:\nhttp://www.strill.fr\n\nPour en savoir plus, rendez-vous sur ht
 tp://www.breizhbook.com/events/stages-cours-et-formations-de-sculpture
 -et-volume-2012-vannes-en
DTSTART;TZID=Europe/Paris:20120426T180000
DTEND;TZID=Europe/Paris:20121231T190000
CATEGORIES:stages, cours, et, formations, de, sculpture, volume, 2012,
  à, vannes, en, bretagne, sud
LOCATION:Atelier de Sculpture de Conleau
WEBSITE:http://www.strill.fr
URL:http://www.strill.fr
CONTACT:02 97 46 05 48
ORGANIZER;CN="Joël STRILL Sculpteur":http://www.breizhbook.com/profil
 e/JoelSTRILLSculpteur
ATTACH;FMTTYPE="image/jpeg":http://storage.ning.com/topology/rest/1.0/
 file/get/3198316123?profile=original
ATTENDEE;ROLE=REQ-PARTICIPANT;PARTSTAT=ACCEPTED;RSVP=TRUE;CN="yahia ya
 sser":http://www.breizhbook.com/profile/yahiayasser
ATTENDEE;ROLE=REQ-PARTICIPANT;PARTSTAT=ACCEPTED;RSVP=TRUE;CN="Joël ST
 RILL Sculpteur":http://www.breizhbook.com/profile/JoelSTRILLSculpteur
END:VEVENT
END:VCALENDAR
