BEGIN:VCALENDAR
PRODID:NingEventWidget-v1
VERSION:2.0
METHOD:PUBLISH
BEGIN:VTIMEZONE
TZID:Europe/Paris
X-LIC-LOCATION:Europe/Paris
BEGIN:DAYLIGHT
TZOFFSETFROM:+0100
TZOFFSETTO:+0200
TZNAME:CEST
DTSTART:19700329T020000
RRULE:FREQ=YEARLY;BYMONTH=3;BYDAY=-1SU
END:DAYLIGHT
BEGIN:STANDARD
TZOFFSETFROM:+0200
TZOFFSETTO:+0100
TZNAME:CET
DTSTART:19701025T030000
RRULE:FREQ=YEARLY;BYMONTH=10;BYDAY=-1SU
END:STANDARD
END:VTIMEZONE
BEGIN:VEVENT
UID:6339722:Event:120645
DTSTAMP:20260423T144846Z
SUMMARY:Stages, cours et formations de sculpture et volume 2012 à Van
 nes en Bretagne sud
DESCRIPTION:STAGES de SCULPTURE et VOLUME 2012 en Bretagne Sud\nEn Jui
 llet, Août ou Septembre 2012à Vannes en Bretagne SudStages axés sur
  la taille directe et les techniques mixtes, et plus particulièrement
  la créativité personnelle.\nEpanouissement par le plaisir de créer
  plutôt que de copier;\nL’expression de son monde intérieur  -  
 Le développement de son imaginaire.\n \nMatériaux en option: Bois, 
 pierre, plâtre, terre, grillage, papier…\nCours hebdomadaires Forma
 tion continue à la carteToutes les Infos sur: http://www.strill.fr\n\
 nPour en savoir plus, rendez-vous sur http://www.breizhbook.com/events
 /stages-cours-et-formations-de-sculpture-et-volume-2012-vannes-e-2
DTSTART;TZID=Europe/Paris:20120521T090000
DTEND;TZID=Europe/Paris:20121231T170000
CATEGORIES:stage, de, sculpture, cours, formation
LOCATION:Atelier de Sculpture de Conleau à Vannes en Bretagne sud
WEBSITE:http://www.strill.fr
URL:http://www.strill.fr
CONTACT:02 97 46 05 48
ORGANIZER;CN="Joël STRILL Sculpteur":http://www.breizhbook.com/profil
 e/JoelSTRILLSculpteur
ATTACH;FMTTYPE="image/jpeg":http://storage.ning.com/topology/rest/1.0/
 file/get/3198316123?profile=original
ATTENDEE;ROLE=REQ-PARTICIPANT;PARTSTAT=ACCEPTED;RSVP=TRUE;CN="Joël ST
 RILL Sculpteur":http://www.breizhbook.com/profile/JoelSTRILLSculpteur
END:VEVENT
END:VCALENDAR
