BEGIN:VCALENDAR
PRODID:NingEventWidget-v1
VERSION:2.0
METHOD:PUBLISH
BEGIN:VTIMEZONE
TZID:Europe/Paris
X-LIC-LOCATION:Europe/Paris
BEGIN:DAYLIGHT
TZOFFSETFROM:+0100
TZOFFSETTO:+0200
TZNAME:CEST
DTSTART:19700329T020000
RRULE:FREQ=YEARLY;BYMONTH=3;BYDAY=-1SU
END:DAYLIGHT
BEGIN:STANDARD
TZOFFSETFROM:+0200
TZOFFSETTO:+0100
TZNAME:CET
DTSTART:19701025T030000
RRULE:FREQ=YEARLY;BYMONTH=10;BYDAY=-1SU
END:STANDARD
END:VTIMEZONE
BEGIN:VEVENT
UID:6339722:Event:143275
DTSTAMP:20260423T181457Z
SUMMARY:Stage \"meubles en cartons\"
DESCRIPTION:Exprimez votre créativité pour réaliser des meubles ori
 ginaux, solides, écologiques, bon marché... et pourquoi pas offrir e
 n cadeau de Noël une pièce unique faite de vos mains !  Une techniqu
 e accessible à chacun-e en quelques heures de pratique !  Objectifs :
 \n• Réaliser un meuble en carton • Acquérir une bonne autonomie 
 dans la technique de fabrication de meubles en carton • Découvrir l
 es principes de la conception et du design • Vivre deux jours sur un
  lieu de vie et de formation en transitions  Animation : 2 professionn
 els : Laurent Bleuzen (formateur) et Bas Van Zuijlen (designer) + 1 in
 tervenante de l'Association Al'Terre Breizh  Nourriture : Les déjeune
 rs sont cuisinés majoritairement à partir de produits de saison, loc
 aux et issus de l’agriculture biologique.  Participation au frais : 
 Normal : 150€ (comprenant les repas de midi et l'ensemble des matér
 iaux nécessaires : chacun-e repart avec son meuble) + 10 € d'adhés
 ion à l'association Al’Terre Breizh Social : 80€ + 5€ d'adhési
 on\n\nContact :\ncontact@alterrebreizh.org\n09 72 37 18 24\n\nPour en 
 savoir plus, rendez-vous sur http://www.breizhbook.com/events/stage-me
 ubles-en-cartons
DTSTART;TZID=Europe/Paris:20121208T000000
DTEND;TZID=Europe/Paris:20121209T235900
CATEGORIES:stage
LOCATION:Coadigou
WEBSITE:
URL:
CONTACT:09.72.37.18.24
ORGANIZER;CN="Al'Terre Breizh":http://www.breizhbook.com/profile/AlTer
 reBreizh
ATTACH;FMTTYPE="image/jpeg":http://storage.ning.com/topology/rest/1.0/
 file/get/3198329638?profile=original
ATTENDEE;ROLE=REQ-PARTICIPANT;PARTSTAT=ACCEPTED;RSVP=TRUE;CN="Al'Terre
  Breizh":http://www.breizhbook.com/profile/AlTerreBreizh
END:VEVENT
END:VCALENDAR
