BEGIN:VCALENDAR
PRODID:NingEventWidget-v1
VERSION:2.0
METHOD:PUBLISH
BEGIN:VTIMEZONE
TZID:Europe/Paris
X-LIC-LOCATION:Europe/Paris
BEGIN:DAYLIGHT
TZOFFSETFROM:+0100
TZOFFSETTO:+0200
TZNAME:CEST
DTSTART:19700329T020000
RRULE:FREQ=YEARLY;BYMONTH=3;BYDAY=-1SU
END:DAYLIGHT
BEGIN:STANDARD
TZOFFSETFROM:+0200
TZOFFSETTO:+0100
TZNAME:CET
DTSTART:19701025T030000
RRULE:FREQ=YEARLY;BYMONTH=10;BYDAY=-1SU
END:STANDARD
END:VTIMEZONE
BEGIN:VEVENT
UID:6339722:Event:194369
DTSTAMP:20260423T182334Z
SUMMARY:Stage de Peinture en plein air entre Rennes, Nantes et Redon
DESCRIPTION:Du 26 au 30 aoÃ»t prochain, un stage de peinture avec un a
 rtiste-peintre breton de talent qui expose Ã  Pont-Aven et dans de nom
 breuses galeries et expositions de qualitÃ© dont Paris et Versailles, 
 est organisÃ© sur Grand-Fougeray.Le stage de peinture en plein air se 
 dÃ©compose en 5 matinÃ©es de 9h Ã  12h, dans le parc arborÃ© de 4 hect
 ares traversÃ© d'une riviÃ¨re du Moulin de ChÃ¨re, si le temps le perm
 et. Sinon, il sera accueilli dans le vaste salon du Moulin.\n\nLe but 
 de M Lecam est de vous aider Ã  vous exprimer simplement sur une toile
  par des techniques faciles Ã  assimiler et Ã  reproduire pour vous ai
 der Ã  trouver vos premiers rÃ©sultats et Ã  acquÃ©rir une sensibilitÃ
 ©. HabituÃ© de l'enseignement, il sera de bon conseil et s'adaptera Ã 
  chacun.\nLes aprÃ¨s-midi sont libres, soit pour visiter le secteur, s
 oit pour vos activitÃ©s prÃ©vues, soit pour que vous vous exerciez sur
  les techniques vues le matin. Nous mettrons Ã  disposition les lieux 
 pour ceux qui veulent poursuivre, une liste d'activitÃ©s touristiques 
 sur cette semaine et nous serons lÃ  pour vous conseiller.\n Si vous s
 ouhaitez dÃ©couvrir la rÃ©gion ou visiter, nous aurons Ã  votre dispos
 ition toute la documentation touristique nÃ©cessaire ainsi que la list
 e des expositions et autres Ã©vÃ©nements qui se dÃ©rouleront dans ces 
 dates. Si vous Ãªtes adeptes de nouvelles activitÃ©s, vous pourrez dÃ©
 couvrir le geocaching avec des trÃ©sors Ã  dÃ©couvrir au village mÃªme
 . Enfin, n'hÃ©sitez pas Ã  nous demander mÃªme Ã  l'avance les bonnes 
 adresses et les conseils pour prÃ©parer au calme votre sÃ©jour dans no
 tre beau village de Grand-Fougeray !\n\n\nLe Moulin de ChÃ¨reChambres 
 d'hÃ´tes de charme aux GÃ®tes de FranceChÃ¨re, sur la route de BeslÃ© 
 (D57)35390 Grand-FougerayBretagne02 99 90 85 30 / 06 87 22 98 21gps : 
 1Â° 45' 6.47\" O / 47Â° 42' 27.40\" N\n\nPour en savoir plus, rendez-v
 ous sur http://www.breizhbook.com/events/stage-de-peinture-en-plein-ai
 r-entre-rennes-nantes-et-redon
DTSTART;TZID=Europe/Paris:20130826T090000
DTEND;TZID=Europe/Paris:20130830T000000
CATEGORIES:stage, peinture, tourisme, activitÃ©, culturelle, vacances,
  plastique, nature
LOCATION:Le Moulin de ChÃ¨re
WEBSITE:http://www.lemoulindechere.com/stage-peinture-eric-lecam.html
URL:http://www.lemoulindechere.com/stage-peinture-eric-lecam.html
CONTACT:0299908530
ORGANIZER;CN="Jeffy - Le Moulin de ChÃ¨re":http://www.breizhbook.com/p
 rofile/JeffyLeMoulindeChere
ATTACH;FMTTYPE="image/jpeg":http://storage.ning.com/topology/rest/1.0/
 file/get/3198357508?profile=original
ATTENDEE;ROLE=REQ-PARTICIPANT;PARTSTAT=ACCEPTED;RSVP=TRUE;CN="Jeffy - 
 Le Moulin de ChÃ¨re":http://www.breizhbook.com/profile/JeffyLeMoulinde
 Chere
END:VEVENT
END:VCALENDAR
