BEGIN:VCALENDAR
PRODID:NingEventWidget-v1
VERSION:2.0
METHOD:PUBLISH
BEGIN:VTIMEZONE
TZID:Europe/Paris
X-LIC-LOCATION:Europe/Paris
BEGIN:DAYLIGHT
TZOFFSETFROM:+0100
TZOFFSETTO:+0200
TZNAME:CEST
DTSTART:19700329T020000
RRULE:FREQ=YEARLY;BYMONTH=3;BYDAY=-1SU
END:DAYLIGHT
BEGIN:STANDARD
TZOFFSETFROM:+0200
TZOFFSETTO:+0100
TZNAME:CET
DTSTART:19701025T030000
RRULE:FREQ=YEARLY;BYMONTH=10;BYDAY=-1SU
END:STANDARD
END:VTIMEZONE
BEGIN:VEVENT
UID:6339722:Event:208318
DTSTAMP:20260423T163541Z
SUMMARY:STAGE DE PECHE
DESCRIPTION:\n\nOUVERT A TOUS !\nInformations et demande d'inscription
  en cliquant sur le lien suivant : PECHE A LA MARGATTE\n  \n\nPour 
 en savoir plus, rendez-vous sur http://www.breizhbook.com/events/stage
 -de-peche
DTSTART;TZID=Europe/Paris:20130907T180000
DTEND;TZID=Europe/Paris:20131001T190000
CATEGORIES:stage, de, pêche
LOCATION:Sur la Rance
WEBSITE:http://rance.canalblog.com/
URL:http://rance.canalblog.com/
CONTACT:
ORGANIZER;CN=Hervé:http://www.breizhbook.com/profile/CHARETON
ATTACH;FMTTYPE="image/jpeg":
ATTENDEE;ROLE=REQ-PARTICIPANT;PARTSTAT=ACCEPTED;RSVP=TRUE;CN=Hervé:ht
 tp://www.breizhbook.com/profile/CHARETON
END:VEVENT
END:VCALENDAR
