BEGIN:VCALENDAR
PRODID:NingEventWidget-v1
VERSION:2.0
METHOD:PUBLISH
BEGIN:VTIMEZONE
TZID:Europe/Paris
X-LIC-LOCATION:Europe/Paris
BEGIN:DAYLIGHT
TZOFFSETFROM:+0100
TZOFFSETTO:+0200
TZNAME:CEST
DTSTART:19700329T020000
RRULE:FREQ=YEARLY;BYMONTH=3;BYDAY=-1SU
END:DAYLIGHT
BEGIN:STANDARD
TZOFFSETFROM:+0200
TZOFFSETTO:+0100
TZNAME:CET
DTSTART:19701025T030000
RRULE:FREQ=YEARLY;BYMONTH=10;BYDAY=-1SU
END:STANDARD
END:VTIMEZONE
BEGIN:VEVENT
UID:6339722:Event:117491
DTSTAMP:20260423T161951Z
SUMMARY:Stage de Formation en Therapie Pranique
DESCRIPTION:Élargir, développer son ressenti de l’énergie vitale 
 et apprendre d’autres techniques de soins…\nCette formation est un
 e synthèse de différentes techniques et enseignements : magnétisme,
  Pranic Healing®, thérapie par la Lumière, géobiologie et radiesth
 ésie appliquées aux corps subtils…\nElle s’adresse aux personnes
  souhaitant approfondir le travail avec l’énergie pranique ou éner
 gie de vie universelle. Elle nécessite d’être initié(e) au Reiki 
 ou au magnétisme, ou d’avoir une pratique des soins énergétiques.
 \nContenu de la formation (sur 2 jours) :\n\nGymnastique préparatoire
  aux soins avec le prana et sensibilisation des mains\nSentir et voir 
 le prana ou énergie de vie universelle\nVoir et ressentir les corps s
 ubtils (exercices pratiques : sentir les creux et les bosses, sentir l
 es couches éthériques, …)\nÉtude théorique des chakras\nTravail 
 sur les chakras : tester les chakras avec différents outils (baguette
  universelle, pendule, avec ses mains, avec les couleurs…), harmonis
 ation des chakras (différentes méthodes)...\n\nCette formation donne
  les bases théoriques et privilégie ensuite une place importante à 
 la pratique et aux exercices afin de développer les facultés de ress
 entis des stagiaires.\nDates et lieux\n\nles 12 et 13 mai 2012 à Bett
 on près de Rennes (35)\n\nTarifs\n\n260 euros / personne (repas non c
 ompris)\n\n\nPour en savoir plus, rendez-vous sur http://www.breizhboo
 k.com/events/stage-de-formation-en-therapie-pranique
DTSTART;TZID=Europe/Paris:20120519T093000
DTEND;TZID=Europe/Paris:20120520T170000
CATEGORIES:stage, de, formation
LOCATION:remplissage
WEBSITE:http://naturopathie-santeonaturel.fr
URL:http://naturopathie-santeonaturel.fr
CONTACT:06.76.51.71.98
ORGANIZER;CN="Laura LEFEBVRE":http://www.breizhbook.com/profile/LauraL
 EFEBVRE
ATTACH;FMTTYPE="image/jpeg":http://storage.ning.com/topology/rest/1.0/
 file/get/3198315244?profile=original
ATTENDEE;ROLE=REQ-PARTICIPANT;PARTSTAT=ACCEPTED;RSVP=TRUE;CN="Laura LE
 FEBVRE":http://www.breizhbook.com/profile/LauraLEFEBVRE
END:VEVENT
END:VCALENDAR
