BEGIN:VCALENDAR
PRODID:NingEventWidget-v1
VERSION:2.0
METHOD:PUBLISH
BEGIN:VTIMEZONE
TZID:Europe/Paris
X-LIC-LOCATION:Europe/Paris
BEGIN:DAYLIGHT
TZOFFSETFROM:+0100
TZOFFSETTO:+0200
TZNAME:CEST
DTSTART:19700329T020000
RRULE:FREQ=YEARLY;BYMONTH=3;BYDAY=-1SU
END:DAYLIGHT
BEGIN:STANDARD
TZOFFSETFROM:+0200
TZOFFSETTO:+0100
TZNAME:CET
DTSTART:19701025T030000
RRULE:FREQ=YEARLY;BYMONTH=10;BYDAY=-1SU
END:STANDARD
END:VTIMEZONE
BEGIN:VEVENT
UID:6339722:Event:211094
DTSTAMP:20260423T164426Z
SUMMARY:STAGE DE DANSE : Samedi 16 Novembre 2013 à Betton-Rennes
DESCRIPTION: (RENNES)\nZAC de Pluvignon\n35830 BETTON\n(Sortie Betton
  sud, suivre Village La Forme)\nCoord GPS : Longitude : 48.164597, Lat
 itude : -1.636791\n \nGénération-Fitness organise un stage de danse
  au Village Oxylane de Betton-Rennes. Pour ce premier stage de la sai
 son, nous aurons le plaisir d’accueillir Emeline Renaudat et Armand 
 Rogier.\nEmeline Renaudat :\nEducatrice sportive à Vit’Halles et Co
 ntour événementiel à Sète pendant de nombreuses années, Emeline e
 st aujourd’hui revenue sur Vierzon. Danseuse et chorégraphe Salsa e
 t Reggaeton. Finaliste aux Championnats de France de Step et d’Hilo.
 \nArmand Rogier :\nPresenter en fitness et en danses urbaines. Diplôm
 é B.E.M.F. et DEUG STAPS. Elu “New comer” France 2008 à l’euro
 convention de Guillermo Gonzales Vega. 3ème au Championnat de France 
 de Hilo individuel en 2008. Champion du Monde du Trophy Hip-Hop ind
 ividuel en 2007. 4ème au Championnat de Hilow individuel en 2007. Ch
 ampion de France de Hip-Hop en 2004 et 2005.\nhttp://armand-rogier.e-m
 onsite.com\nPROGRAMME du Samedi 16 Novembre 2013 :\n14h30 : REGGAETON
 \nEmeline Renaudat\n15h45 : NEW STYLE\nArmand Rogier\n17h00 : SALSAT
 ON\nEmeline Renaudat\nBANDE-ANNONCE : http://www.youtube.com/watch?v=f
 2P-aaWmpkw&feature=youtu.be\nTARIFS :\n- Règlement envoyé avant l
 e 09 Novembre 2013 :        journée = 20 €         
    1 cours = 10 €\n- Règlement envoyé après le 09 Novembre 20
 13 :        journée = 30 €            1 cours = 1
 5 €\n- Tarif pour  les groupes de 10 personnes ou plus ( journée g
 ratuite pour l’éducateur sportif accompagnant).  Attention, ce tar
 if concerne plusieurs personnes d’un même club,  d’une même éc
 ole ou d’une même association.\njournée = 15 € / personne  (mer
 ci d’envoyer vos inscriptions groupées une semaine avant la date du
  stage. Merci de bien vouloir indiquer les noms, prénoms, portables e
 t mails de chaque participant)\n- GRATUIT pour les adhérents de Gén
 ration-Fitness (inscription indispensable via le formulaire d’insc
 ription)\nRESTAURATION SUR PLACE : Snack Ekinatcafé\n \n\nPour en s
 avoir plus, rendez-vous sur http://www.breizhbook.com/events/stage-de-
 danse-samedi-16-novembre-2013-betton-rennes
DTSTART;TZID=Europe/Paris:20131116T140000
DTEND;TZID=Europe/Paris:20131116T180000
CATEGORIES:stage, de, danse
LOCATION:Village Oxylane Betton-Rennes
WEBSITE:http://www.generation-fitness.com
URL:http://www.generation-fitness.com
CONTACT:06.09.47.06.56
ORGANIZER;CN=Génération-Fitness:http://www.breizhbook.com/profile/Ge
 nerationFitness
ATTACH;FMTTYPE="image/jpeg":http://storage.ning.com/topology/rest/1.0/
 file/get/3198360544?profile=original
ATTENDEE;ROLE=REQ-PARTICIPANT;PARTSTAT=ACCEPTED;RSVP=TRUE;CN=Générat
 ion-Fitness:http://www.breizhbook.com/profile/GenerationFitness
END:VEVENT
END:VCALENDAR
