BEGIN:VCALENDAR
PRODID:NingEventWidget-v1
VERSION:2.0
METHOD:PUBLISH
BEGIN:VTIMEZONE
TZID:Europe/Paris
X-LIC-LOCATION:Europe/Paris
BEGIN:DAYLIGHT
TZOFFSETFROM:+0100
TZOFFSETTO:+0200
TZNAME:CEST
DTSTART:19700329T020000
RRULE:FREQ=YEARLY;BYMONTH=3;BYDAY=-1SU
END:DAYLIGHT
BEGIN:STANDARD
TZOFFSETFROM:+0200
TZOFFSETTO:+0100
TZNAME:CET
DTSTART:19701025T030000
RRULE:FREQ=YEARLY;BYMONTH=10;BYDAY=-1SU
END:STANDARD
END:VTIMEZONE
BEGIN:VEVENT
UID:6339722:Event:170536
DTSTAMP:20260423T175855Z
SUMMARY:STAGE DE DANSE : Samedi 13 Avril 2013 à Betton-Rennes
DESCRIPTION:Génération-Fitness organise un stage de danse au Village
  Oxylane de Betton-Rennes. Pour la première fois en Bretagne, nous ac
 cueillerons Lucie Valadier, spécialiste du Reggaeton, et Popin Smiley
 , spécialiste du Hip-Hop.\nLucie Valadier :\nAthlète depuis 2002, Lu
 cie a été championne nationale en aérobic artistique et fitness par
  équipe, entraînée par les meilleurs (Lionel Lacolas, Delphine Bonh
 omme, Mickaël Bard, etc…). Lucie est aujourd’hui spécialisée da
 ns le Reggaeton.\nPopin Smiley :\nGuy Sembé alias “Popin Smiley” 
 est danseur autodidacte depuis 1983. Il a été chorégraphe et danseu
 r pour de nombreuses comédies musicales et de nombreux spectacles. Il
  travaille pour la Juste Debout School à Paris et la Ultimatum School
  à Cachan et anime de nombreux stages en France et à l’étranger (
 Los Angeles, Croatie, Allemagne, Suisse, Israël, Italie, Grèce, et
 ). Il est juge pour de nombreuses battle et spécialiste du Popping.\
 nPROGRAMME du Samedi 13 Avril 2013 :\n14h30 : REGGAETON PURO : Lucie 
 Valadier\n15h45 : STREETDANCE : Popin Smiley\n17h00 : REGGAETON SENSUA
 L : Lucie Valadier\nTARIFS :\n- Règlement envoyé avant le 06 Avril 2
 013 : journée = 20 € 1 cours = 10 €\n- Règlement envoyé après 
 le 06 Avril 2013 : journée = 30 € 1 cours = 15 €\n- Tarif pour le
 s groupes de 10 personnes ou plus (journée gratuite pour l’éducate
 ur sportif accompagnant). Attention, ce tarif concerne plusieurs perso
 nnes d’un même club, d’une même école ou d’une même associat
 ion. La journée = 15 € / personne (merci d’envoyer vos inscriptio
 ns groupées une semaine avant la date du stage. Merci de bien vouloir
  indiquer les noms, prénoms, portables et mails de chaque participant
 )\nRESTAURATION SUR PLACE AVEC LE SNACK EKINATCAFE\nVidéo de Bande-An
 nonce : http://www.youtube.com/watch?v=3wbvaC72mOs\nwww.generation-fi
 tness.com\n\nPour en savoir plus, rendez-vous sur http://www.breizhboo
 k.com/events/stage-de-danse-samedi-13-avril-2013-betton-rennes
DTSTART;TZID=Europe/Paris:20130413T143000
DTEND;TZID=Europe/Paris:20130413T180000
CATEGORIES:stage, de, danse
LOCATION:DECATHLON - VILLAGE OXYLANE
WEBSITE:http://www.generation-fitness.com
URL:http://www.generation-fitness.com
CONTACT:0609470656
ORGANIZER;CN=Génération-Fitness:http://www.breizhbook.com/profile/Ge
 nerationFitness
ATTACH;FMTTYPE="image/jpeg":
ATTENDEE;ROLE=REQ-PARTICIPANT;PARTSTAT=ACCEPTED;RSVP=TRUE;CN=Générat
 ion-Fitness:http://www.breizhbook.com/profile/GenerationFitness
END:VEVENT
END:VCALENDAR
