BEGIN:VCALENDAR
PRODID:NingEventWidget-v1
VERSION:2.0
METHOD:PUBLISH
BEGIN:VTIMEZONE
TZID:Europe/Paris
X-LIC-LOCATION:Europe/Paris
BEGIN:DAYLIGHT
TZOFFSETFROM:+0100
TZOFFSETTO:+0200
TZNAME:CEST
DTSTART:19700329T020000
RRULE:FREQ=YEARLY;BYMONTH=3;BYDAY=-1SU
END:DAYLIGHT
BEGIN:STANDARD
TZOFFSETFROM:+0200
TZOFFSETTO:+0100
TZNAME:CET
DTSTART:19701025T030000
RRULE:FREQ=YEARLY;BYMONTH=10;BYDAY=-1SU
END:STANDARD
END:VTIMEZONE
BEGIN:VEVENT
UID:6339722:Event:210558
DTSTAMP:20260423T164306Z
SUMMARY:Stage de danse jazz et street jazz le 22 & 23 octobre 2013
DESCRIPTION:L'Association Mélie Danse de Vignieux de Bretagne organis
 e un stage de danse jazz & street jazz animé par Pierre-Jean Gourdin 
 (professeur diplômé d'état) le 22 & 23 octobre prochain à la Salle
  du Grand Calvaire.\n\nLe planning du stage :\n10h00-11h30 Jazz enfant
 s (10-12 ans)\n11h30-13h00 Jazz Ados (13-16 ans et +)\n14h00-15h30 Str
 eet Jazz (13-16 ans et +)\n *Prévoir une paire de basket pour le cour
 s de street jazz  Tarifs :  - Adhérents :  1 cours : 15 €, 2 cours 
 : 25 €, 4 cours : 35 € (13-16 ans et +)  - Non adhérents :  1 cou
 rs : 20 €, 2 cours : 30 €, 4 cours : 40 € (13-16 ans et +)  Atte
 ntion nombre de places limitées ! Date limite d'inscriptions le 16.10
 .13.  La plaquette sera mis en ligne prochainement sur le site : meli
 edanse.e-monsite.com\n\nPour plus amples renseignements :  Association
  Mélie Danse Mme Laurence Linskens La Pluche 44 360 LA PAQUELAIS Tel 
 : 02.28.02.18.82.\n\n\nPour en savoir plus, rendez-vous sur http://www
 .breizhbook.com/events/stage-de-danse-jazz-et-street-jazz-le-22-23-oct
 obre-2013
DTSTART;TZID=Europe/Paris:20131022T000000
DTEND;TZID=Europe/Paris:20131023T235900
CATEGORIES:stage, de, danse
LOCATION:Salle du Grand Calvaire de Vignieux de Bretagne
WEBSITE:
URL:
CONTACT:
ORGANIZER:Mélie Danse
ATTACH;FMTTYPE="image/jpeg":http://storage.ning.com/topology/rest/1.0/
 file/get/3198361257?profile=original
ATTENDEE;ROLE=REQ-PARTICIPANT;PARTSTAT=ACCEPTED;RSVP=TRUE;CN=PJ:http:/
 /www.breizhbook.com/profile/PierreJeanGourdin
END:VEVENT
END:VCALENDAR
