BEGIN:VCALENDAR
PRODID:NingEventWidget-v1
VERSION:2.0
METHOD:PUBLISH
BEGIN:VTIMEZONE
TZID:Europe/Paris
X-LIC-LOCATION:Europe/Paris
BEGIN:DAYLIGHT
TZOFFSETFROM:+0100
TZOFFSETTO:+0200
TZNAME:CEST
DTSTART:19700329T020000
RRULE:FREQ=YEARLY;BYMONTH=3;BYDAY=-1SU
END:DAYLIGHT
BEGIN:STANDARD
TZOFFSETFROM:+0200
TZOFFSETTO:+0100
TZNAME:CET
DTSTART:19701025T030000
RRULE:FREQ=YEARLY;BYMONTH=10;BYDAY=-1SU
END:STANDARD
END:VTIMEZONE
BEGIN:VEVENT
UID:6339722:Event:111107
DTSTAMP:20260423T163552Z
SUMMARY:Stage de breton à Bruxelles
DESCRIPTION:Comme l'an passé, la Scop Roudour organise un stage de br
 eton de week-end à Bruxelles. Il se tiendra les 5 et 6 mai, sur deux 
 jours. D'un total de 10h30, le samedi toute la journée et le dimanche
  matin. Les méthodes utilisées sont celles de l'Apprentissage Accél
 éré adaptées au breton par les formateurs de Roudour. Pour toute in
 scription ou demande de renseignements complémentaires, contacter Rou
 dour au 02 98 99 75 81 ou sur le site www.roudour.com.\n\nPour en savo
 ir plus, rendez-vous sur http://www.breizhbook.com/events/stage-de-bre
 ton-bruxelles
DTSTART;TZID=Europe/Paris:20120505T210000
DTEND;TZID=Europe/Paris:20120506T123000
CATEGORIES:formation, -, stage
LOCATION:Remplissage
WEBSITE:http://www.roudour.com/
URL:http://www.roudour.com/
CONTACT:02 98 99 75 81
ORGANIZER;CN="Roudour Scop":http://www.breizhbook.com/profile/RoudourS
 cop
ATTACH;FMTTYPE="image/jpeg":http://storage.ning.com/topology/rest/1.0/
 file/get/3198309119?profile=original
ATTENDEE;ROLE=REQ-PARTICIPANT;PARTSTAT=ACCEPTED;RSVP=TRUE;CN="Roudour 
 Scop":http://www.breizhbook.com/profile/RoudourScop
END:VEVENT
END:VCALENDAR
