BEGIN:VCALENDAR
PRODID:NingEventWidget-v1
VERSION:2.0
METHOD:PUBLISH
BEGIN:VTIMEZONE
TZID:Europe/Paris
X-LIC-LOCATION:Europe/Paris
BEGIN:DAYLIGHT
TZOFFSETFROM:+0100
TZOFFSETTO:+0200
TZNAME:CEST
DTSTART:19700329T020000
RRULE:FREQ=YEARLY;BYMONTH=3;BYDAY=-1SU
END:DAYLIGHT
BEGIN:STANDARD
TZOFFSETFROM:+0200
TZOFFSETTO:+0100
TZNAME:CET
DTSTART:19701025T030000
RRULE:FREQ=YEARLY;BYMONTH=10;BYDAY=-1SU
END:STANDARD
END:VTIMEZONE
BEGIN:VEVENT
UID:6339722:Event:152201
DTSTAMP:20260423T175208Z
SUMMARY:SPECTACLE DE DANSE ORIENTALE
DESCRIPTION:Le spectacle de fin d'annÃ©e des cours des ailes d isis se
  tiendra pour la troisiÃ©me annÃ©e consÃ©cutives a penmarch\nLes Ã©lÃ¨
 ves de Brest, Pont l'abbÃ©, Leguilvinec, Quimper et Penmarch seront pr
 Ã©sentes\nLes Ã©lÃ¨ves du cours Zumba d'Emma seront Ã©galement sur scÃ
 ¨ne\nPour la deuxiÃ¨me partie de spectacle Â nous aurons le plaisir d'
 acceuillir Angelique de lorient,Â Azahar de brestÂ , Esmaa d'angers, E
 mma et Theo pour un nouveau duo\n\nPour en savoir plus, rendez-vous su
 r http://www.breizhbook.com/events/spectacle-de-danse-oriental
DTSTART;TZID=Europe/Paris:20130608T203000
DTEND;TZID=Europe/Paris:20130609T010000
CATEGORIES:danse, orientale, spectacle, de, fin, "d'annÃ©e"
LOCATION:SALLE CAP CAVAL
WEBSITE:
URL:
CONTACT:0615351549
ORGANIZER;CN="LES AILES  D ISIS":http://www.breizhbook.com/profile/LES
 AILESDISIS
ATTACH;FMTTYPE="image/jpeg":
ATTENDEE;ROLE=REQ-PARTICIPANT;PARTSTAT=ACCEPTED;RSVP=TRUE;CN="LES AILE
 S  D ISIS":http://www.breizhbook.com/profile/LESAILESDISIS
END:VEVENT
END:VCALENDAR
