BEGIN:VCALENDAR
PRODID:NingEventWidget-v1
VERSION:2.0
METHOD:PUBLISH
BEGIN:VTIMEZONE
TZID:Europe/Paris
X-LIC-LOCATION:Europe/Paris
BEGIN:DAYLIGHT
TZOFFSETFROM:+0100
TZOFFSETTO:+0200
TZNAME:CEST
DTSTART:19700329T020000
RRULE:FREQ=YEARLY;BYMONTH=3;BYDAY=-1SU
END:DAYLIGHT
BEGIN:STANDARD
TZOFFSETFROM:+0200
TZOFFSETTO:+0100
TZNAME:CET
DTSTART:19701025T030000
RRULE:FREQ=YEARLY;BYMONTH=10;BYDAY=-1SU
END:STANDARD
END:VTIMEZONE
BEGIN:VEVENT
UID:6339722:Event:178510
DTSTAMP:20260423T175821Z
SUMMARY:Spectacle de danse de fin d'annÃ©e avec GÃ©nÃ©ration-Fitness
DESCRIPTION:Nous prÃ©parons dÃ©jÃ  activement le spectacle de danse de
  fin dâ€™annÃ©e qui se dÃ©roulera le Samedi 8 Juin 2013. Le spectacle 
 aura lieu Ã  la salle polyvalente duÂ COSEC de Dinard, 29 rue Gouyon-M
 atignon. Les Ã©lÃ¨ves des 6 communes respectives danseront le Samedi s
 oir sur pas moins de 46 chorÃ©graphies diffÃ©rentes. Comme chaque annÃ
 ©e, les petits et les enfants danseront en premiÃ¨re partie soit de 20
 h00 Ã  21h45 et les adolescents et les adultes danseront en deuxiÃ¨me 
 partie soit de 22h15 Ã  00h15.\n\nUn entracte avec buvette payante est
  prÃ©vu de 21h45 Ã  22h15.\n\nTarifs pour la sÃ©ance 1 OU pour la sÃ©a
 nce 2 :\n\n- 10 â‚¬ par personne,\n- 8 â‚¬ par enfant de moins de 12 a
 ns,\nPRE-VENTES DES BILLETS Dâ€™ENTREE :\n\nNous proposons les billets
  dâ€™entrÃ©e pour le spectacle en prÃ©-vente comme chaque annÃ©e. Voic
 i les dates de ces prÃ©-ventes :\n\n- Lundi 20 Mai de 19h Ã  21h Ã  la
  MalouiniÃ¨re au Domaine de La Barbinais Ã  Saint-Malo,\n- Samedi 25 M
 ai de 10h Ã  12h Ã  la salle omnisports de La Richardais,\n- Samedi 25
  Mai de 18h Ã  20h Ã  lâ€™espace de la GrÃ¨ve de Cherrueix,\n- Dimanch
 e 26 Mai de 18h Ã  20h Ã  la salle des fÃªtes de Saint-Suliac,\n- Same
 di 1er Juin de 10h Ã  12h dans le hall dâ€™entrÃ©e du COSEC de Dinard,
 \n- Samedi 1er Juin de 17h Ã  19h dans la petite salle Ã  lâ€™Ã©tage d
 e la maison du temps libre de Saint-Jouan des GuÃ©rÃªts.\n\nPlus de re
 nseignementsÂ : 06.09.47.06.56 / info@generation-fitness.com\n\nPour e
 n savoir plus, rendez-vous sur http://www.breizhbook.com/events/specta
 cle-de-danse-de-fin-d-ann-e-avec-g-n-ration-fitness
DTSTART;TZID=Europe/Paris:20130608T200000
DTEND;TZID=Europe/Paris:20130609T010000
CATEGORIES:spectacle, de, danse
LOCATION:Salle Polyvalente - Cosec de Dinard
WEBSITE:http://www.generation-fitness.com
URL:http://www.generation-fitness.com
CONTACT:0609470656
ORGANIZER;CN=GÃ©nÃ©ration-Fitness:http://www.breizhbook.com/profile/Ge
 nerationFitness
ATTACH;FMTTYPE="image/jpeg":http://storage.ning.com/topology/rest/1.0/
 file/get/3198355066?profile=original
ATTENDEE;ROLE=REQ-PARTICIPANT;PARTSTAT=ACCEPTED;RSVP=TRUE;CN=GÃ©nÃ©rat
 ion-Fitness:http://www.breizhbook.com/profile/GenerationFitness
END:VEVENT
END:VCALENDAR
