BEGIN:VCALENDAR
PRODID:NingEventWidget-v1
VERSION:2.0
METHOD:PUBLISH
BEGIN:VTIMEZONE
TZID:Europe/Paris
X-LIC-LOCATION:Europe/Paris
BEGIN:DAYLIGHT
TZOFFSETFROM:+0100
TZOFFSETTO:+0200
TZNAME:CEST
DTSTART:19700329T020000
RRULE:FREQ=YEARLY;BYMONTH=3;BYDAY=-1SU
END:DAYLIGHT
BEGIN:STANDARD
TZOFFSETFROM:+0200
TZOFFSETTO:+0100
TZNAME:CET
DTSTART:19701025T030000
RRULE:FREQ=YEARLY;BYMONTH=10;BYDAY=-1SU
END:STANDARD
END:VTIMEZONE
BEGIN:VEVENT
UID:6339722:Event:143416
DTSTAMP:20260423T175746Z
SUMMARY:Souffles voyageurs : contes et chants diphoniques
DESCRIPTION:C'est dans le cadre des RDV magiques \"Les Goûters Enchan
 tés\", le 2ème dimanche de chaque mois, dans ce centre de yoga, diri
 gé par Stéphanie Launay, qu'est programmé ce spectacle du duo Mona 
 Couasnon et Jean-Pierre Mathias : \"Elle de son chant harmonisant les 
 gens, Lui de ses paroles, les nourrissant.\" D'où vient que les humai
 ns ont le goût du chant, des vibrations, du son, de la musique ? Des 
 contes de la mémoire du monde en ont gardé le secret. Les improvisat
 ions vocales évocatrices de Mona Couasnon voguent dans plus d'une diz
 aine d'aires culturelles et autres ambiances : lever du matin, flûte,
  grégorien, arabe, asiatique, \"chamanique\", diphonique, ... Les con
 tes de Jean-Pierre Mathias donnent à \"voir\" la musique essentielle 
 pour la vie humaine, tant avec la fille au tambourin magique (Inuit), 
 qu'en compagnie du maître musicien (Vietnam), à-travers le chant des
  pierres de Bretagne, et celles de hautes montagnes lointaines, la voi
 x du vent dans les bois amérindiens, ...\n\nPour en savoir plus, rend
 ez-vous sur http://www.breizhbook.com/events/souffles-voyageurs-contes
 -et-chants-diphoniques-1
DTSTART;TZID=Europe/Paris:20121209T160000
DTEND;TZID=Europe/Paris:20121209T190000
CATEGORIES:spectacle
LOCATION:La Maison des Anges
WEBSITE:http://www.contes-et-merveilles.com/agenda.php
URL:http://www.contes-et-merveilles.com/agenda.php
CONTACT:0950 613 972
ORGANIZER;CN=MATHIAS:http://www.breizhbook.com/profile/MATHIAS
ATTACH;FMTTYPE="image/jpeg":http://storage.ning.com/topology/rest/1.0/
 file/get/3198329369?profile=original
ATTENDEE;ROLE=REQ-PARTICIPANT;PARTSTAT=ACCEPTED;RSVP=TRUE;CN=MATHIAS:h
 ttp://www.breizhbook.com/profile/MATHIAS
END:VEVENT
END:VCALENDAR
