BEGIN:VCALENDAR
PRODID:NingEventWidget-v1
VERSION:2.0
METHOD:PUBLISH
BEGIN:VTIMEZONE
TZID:Europe/Paris
X-LIC-LOCATION:Europe/Paris
BEGIN:DAYLIGHT
TZOFFSETFROM:+0100
TZOFFSETTO:+0200
TZNAME:CEST
DTSTART:19700329T020000
RRULE:FREQ=YEARLY;BYMONTH=3;BYDAY=-1SU
END:DAYLIGHT
BEGIN:STANDARD
TZOFFSETFROM:+0200
TZOFFSETTO:+0100
TZNAME:CET
DTSTART:19701025T030000
RRULE:FREQ=YEARLY;BYMONTH=10;BYDAY=-1SU
END:STANDARD
END:VTIMEZONE
BEGIN:VEVENT
UID:6339722:Event:122640
DTSTAMP:20260423T144807Z
SUMMARY:Sortie du nouveau CD \"L'âme celte\"
DESCRIPTION:Bonjour à tous ! Voici mon nouvel album où la mer et la 
 Bretagne sont bien au rendez-vous ! Il est en écoute totale à ce lie
 n : http://olivierrech.bandcamp.com/album/l-me-celte\n\nPour en savoi
 r plus, rendez-vous sur http://www.breizhbook.com/events/sortie-du-nou
 veau-cd-l-me-celte
DTSTART;TZID=Europe/Paris:20120612T180000
DTEND;TZID=Europe/Paris:20130101T190000
CATEGORIES:sortie, "d'album"
LOCATION:Paris/Bretagne
WEBSITE:http://olivierrech.bandcamp.com/album/l-me-celte
URL:http://olivierrech.bandcamp.com/album/l-me-celte
CONTACT:
ORGANIZER;CN="Olivier RECH":http://www.breizhbook.com/profile/OlivierR
 ECH
ATTACH;FMTTYPE="image/jpeg":http://storage.ning.com/topology/rest/1.0/
 file/get/3198319251?profile=original
ATTENDEE;ROLE=REQ-PARTICIPANT;PARTSTAT=ACCEPTED;RSVP=TRUE;CN="Olivier 
 RECH":http://www.breizhbook.com/profile/OlivierRECH
END:VEVENT
END:VCALENDAR
