BEGIN:VCALENDAR
PRODID:NingEventWidget-v1
VERSION:2.0
METHOD:PUBLISH
BEGIN:VTIMEZONE
TZID:Europe/Paris
X-LIC-LOCATION:Europe/Paris
BEGIN:DAYLIGHT
TZOFFSETFROM:+0100
TZOFFSETTO:+0200
TZNAME:CEST
DTSTART:19700329T020000
RRULE:FREQ=YEARLY;BYMONTH=3;BYDAY=-1SU
END:DAYLIGHT
BEGIN:STANDARD
TZOFFSETFROM:+0200
TZOFFSETTO:+0100
TZNAME:CET
DTSTART:19701025T030000
RRULE:FREQ=YEARLY;BYMONTH=10;BYDAY=-1SU
END:STANDARD
END:VTIMEZONE
BEGIN:VEVENT
UID:6339722:Event:204661
DTSTAMP:20260423T163548Z
SUMMARY:SOIREE ANNEE 80
DESCRIPTION:Bannalec vendredi soir à partir de 20h30\nsoirée année 
 80 au centre du bourg de Bannalec\ndégustation de crêpes et cidre.\n
 entrée gratuite.\norganisé par l'association Les P'tites Boutures et
  Bann'Anim\npour le service pédiatrique de QUIMPER;\n\nPour en savoir
  plus, rendez-vous sur http://www.breizhbook.com/events/soiree-annee-8
 0
DTSTART;TZID=Europe/Paris:20130809T203000
DTEND;TZID=Europe/Paris:20130810T010000
CATEGORIES:soiree, disco, pour, le, service, pédiatrique, de, quimper
LOCATION:CENTRE BOURG DE BANNALEC
WEBSITE:
URL:
CONTACT:0665446259
ORGANIZER;CN="Bruno Furic":http://www.breizhbook.com/profile/BrunoFuri
 c
ATTACH;FMTTYPE="image/jpeg":
ATTENDEE;ROLE=REQ-PARTICIPANT;PARTSTAT=ACCEPTED;RSVP=TRUE;CN="Bruno Fu
 ric":http://www.breizhbook.com/profile/BrunoFuric
END:VEVENT
END:VCALENDAR
