BEGIN:VCALENDAR
PRODID:NingEventWidget-v1
VERSION:2.0
METHOD:PUBLISH
BEGIN:VTIMEZONE
TZID:Europe/Paris
X-LIC-LOCATION:Europe/Paris
BEGIN:DAYLIGHT
TZOFFSETFROM:+0100
TZOFFSETTO:+0200
TZNAME:CEST
DTSTART:19700329T020000
RRULE:FREQ=YEARLY;BYMONTH=3;BYDAY=-1SU
END:DAYLIGHT
BEGIN:STANDARD
TZOFFSETFROM:+0200
TZOFFSETTO:+0100
TZNAME:CET
DTSTART:19701025T030000
RRULE:FREQ=YEARLY;BYMONTH=10;BYDAY=-1SU
END:STANDARD
END:VTIMEZONE
BEGIN:VEVENT
UID:6339722:Event:116582
DTSTAMP:20260423T175422Z
SUMMARY:SoirÃ©e Krampouez Noz 28 Avril 2012
DESCRIPTION:Le Bagad Bleidi Kamorh ( Camors 56) organise le samedi 28 
 avril une soirÃ©e Krampouez/ noz ( repas crÃªpes et fest-noz) Ã  19h30
  a la salle du Petit-Bois Ã  Camors. EntrÃ©e adultes : 10 euros: 3 crÃ
 ©pes aux choix + cafÃ© et accÃ©s gratuit au fest-noz.EntrÃ©e enfants :
  6 euros 2 crÃ©pes au choix et acces gratuit au fest-noz. Merci de fai
 re passer ce message Ã  tous vos contacts. Les benÃ©fices de cette soi
 rÃ©e sont investis dans la formation Â des jeunes de Skol Er Blei ( Ã©
 cole de formation musicale du Bagad Bleidi Kamorh. merci\n\nPour en sa
 voir plus, rendez-vous sur http://www.breizhbook.com/events/soir-e-kra
 mpouez-noz-28-avril-2012
DTSTART;TZID=Europe/Paris:20120428T060000
DTEND;TZID=Europe/Paris:20120428T070000
CATEGORIES:soirÃ©e, crÃªpes, fest-noz
LOCATION:Salle du Petit Bois
WEBSITE:
URL:
CONTACT:
ORGANIZER;CN="Bagad Bleidi Kamorh":http://www.breizhbook.com/profile/L
 EROCH
ATTACH;FMTTYPE="image/jpeg":
ATTENDEE;ROLE=REQ-PARTICIPANT;PARTSTAT=ACCEPTED;RSVP=TRUE;CN="Bagad Bl
 eidi Kamorh":http://www.breizhbook.com/profile/LEROCH
END:VEVENT
END:VCALENDAR
