BEGIN:VCALENDAR
PRODID:NingEventWidget-v1
VERSION:2.0
METHOD:PUBLISH
BEGIN:VTIMEZONE
TZID:Europe/Paris
X-LIC-LOCATION:Europe/Paris
BEGIN:DAYLIGHT
TZOFFSETFROM:+0100
TZOFFSETTO:+0200
TZNAME:CEST
DTSTART:19700329T020000
RRULE:FREQ=YEARLY;BYMONTH=3;BYDAY=-1SU
END:DAYLIGHT
BEGIN:STANDARD
TZOFFSETFROM:+0200
TZOFFSETTO:+0100
TZNAME:CET
DTSTART:19701025T030000
RRULE:FREQ=YEARLY;BYMONTH=10;BYDAY=-1SU
END:STANDARD
END:VTIMEZONE
BEGIN:VEVENT
UID:6339722:Event:122710
DTSTAMP:20260423T182608Z
SUMMARY:Soirée \"Bienvenue chez les Allemands\" le 20 juin
DESCRIPTION:Afin de faire découvrir les pays européens et leur cultu
 re de manière conviviale et originale, la Maison de l’Europe de Bre
 st a mis en place une activité intitulée ” Bienvenue chez…” Ce
 s rencontres trimestrielles mettent à l’honneur un pays européen a
 utour d’une activité culturelle : conférence, découverte d’un a
 uteur, exposition, concert, film…\nCe mois de juin c’est l’Allem
 agne qui sera mise en avant, et plus particulièrement le Land de la R
 hénanie du Nord-Westphalie. Une Allemande originaire de cette région
 , Inken Loebe, la présentera sous ses aspects culturels (spécialité
 s culinaires, monuments,…), historiques, économiques et parlera des
  liens entre la Rhénanie du Nord-Westphalie et l’UE. La région ser
 vira également d’exemple pour évoquer le fédéralisme allemand et
  établir une comparaison avec le système centralisé français. Pend
 ant la soirée vous pourrez déguster quelques gâteaux allemands et u
 n pot sera servi pour les visiteurs. Des brochures et cartes de la ré
 gion seront mises à disposition. Cette soirée aura lieu le 20 juin 
  partir de 18h.\nPour plus d’informations : Maison de l’Europe 
  02 98 46 60 09 – accueil@maisoneurope-brest.eu\n\nPour en savoir p
 lus, rendez-vous sur http://www.breizhbook.com/events/soir-e-bienvenue
 -chez-les-allemands-le-20-juin
DTSTART;TZID=Europe/Paris:20120620T180000
DTEND;TZID=Europe/Paris:20120620T200000
CATEGORIES:animation
LOCATION:Maison de l'Europe
WEBSITE:http://www.maisoneurope-brest.eu/
URL:http://www.maisoneurope-brest.eu/
CONTACT:0298466009
ORGANIZER;CN="Maison De l'Europe Brest":http://www.breizhbook.com/prof
 ile/MaisonDelEuropeBrest
ATTACH;FMTTYPE="image/jpeg":http://storage.ning.com/topology/rest/1.0/
 file/get/3198319152?profile=original
ATTENDEE;ROLE=REQ-PARTICIPANT;PARTSTAT=ACCEPTED;RSVP=TRUE;CN="Maison D
 e l'Europe Brest":http://www.breizhbook.com/profile/MaisonDelEuropeBre
 st
END:VEVENT
END:VCALENDAR
