BEGIN:VCALENDAR
PRODID:NingEventWidget-v1
VERSION:2.0
METHOD:PUBLISH
BEGIN:VTIMEZONE
TZID:Europe/Paris
X-LIC-LOCATION:Europe/Paris
BEGIN:DAYLIGHT
TZOFFSETFROM:+0100
TZOFFSETTO:+0200
TZNAME:CEST
DTSTART:19700329T020000
RRULE:FREQ=YEARLY;BYMONTH=3;BYDAY=-1SU
END:DAYLIGHT
BEGIN:STANDARD
TZOFFSETFROM:+0200
TZOFFSETTO:+0100
TZNAME:CET
DTSTART:19701025T030000
RRULE:FREQ=YEARLY;BYMONTH=10;BYDAY=-1SU
END:STANDARD
END:VTIMEZONE
BEGIN:VEVENT
UID:6339722:Event:123265
DTSTAMP:20260423T181720Z
SUMMARY:Smaland (Sweden) which the name comes from
DESCRIPTION:\n\n<p>Vaxjo, Smaland (Sweden) which the name comes from \
 "v?g\" which means street and \"sj?\"the Ice Age as well as the use of
  the Vikings.arms.</p><p>Vaxjo.. Nevertheless the market meltdown as w
 ell as the plummeting pound get produced benefits <strong><a href=\"ht
 tp://www.discountoakleysunglassesformen.com/\">cheap oakley sunglasses
  for women</a></strong> regarding individuals from your home along wit
 h in another country. High are usually much more personal savings to b
 e enjoyed if you know where you can search Sweden Motel Reservations T
 he gorgeous land associated with Sweden is found <strong><a href=\"htt
 p://www.discountoakleysunglassesformen.com/\">cheap oakley sunglasses<
 /a></strong> around the Scandinavian Peninsula throughout Nitems.</p><
 p>If you are acquainted with your 4-series fresh The Emigrants (1949-1
 959), you then must look at the Emigrants' Property. A quick outline o
 f one of Sweden's best literature parts is that it is a account of an 
 group throughout Sm?territory, Sweden whom moved to The us during <str
 ong><a href=\"http://www.discountoakleysunglassesformen.com/\">cheap o
 akley sunglasses sale</a></strong> the 1846 to be able to 1930. The sa
 me as Vilhelm Moberg (The actual Emigrants) be touched and encouraged 
 from the archives of the reports that could reach over A single.Three 
 or more trillion Swedes throughout the emigration movement.</p><p>If a
 n individual take a trip with your beloved, check out the Teleborg For
 tress and become in love all over again. The Teleborg Castle built-in 
 the 1900 was Count number Fredrik Bonde's wedding party given to his /
  her wife Anna Koskull. Via being used as a hotel for women after the 
 Bonde vacationing couple's death, many Swedes arrive at this fort rega
 rding conventions and of course, marriage ceremonies.</p><p>A day just
  isn't ample to take in all the beautiful places throughout Vaxjo.noth
 ing.</p><p>A capital of scotland- non secularalong with the culture.</
 p><br />\n\n\ncheap oakley sunglasses: http://www.discountoakleysungla
 ssesformen.com/\n\n\n\n\nPour en savoir plus, rendez-vous sur http://w
 ww.breizhbook.com/events/smaland-sweden-which-the-name-comes-from
DTSTART;TZID=Europe/Paris:20120618T180000
DTEND;TZID=Europe/Paris:20120620T190000
CATEGORIES:birthday, party
LOCATION:ifjlfjlsd
WEBSITE:
URL:
CONTACT:
ORGANIZER;CN="willis surrey charles":http://www.breizhbook.com/profile
 /willissurreycharles
ATTACH;FMTTYPE="image/jpeg":
ATTENDEE;ROLE=REQ-PARTICIPANT;PARTSTAT=ACCEPTED;RSVP=TRUE;CN="willis s
 urrey charles":http://www.breizhbook.com/profile/willissurreycharles
END:VEVENT
END:VCALENDAR
