BEGIN:VCALENDAR
PRODID:NingEventWidget-v1
VERSION:2.0
METHOD:PUBLISH
BEGIN:VTIMEZONE
TZID:Europe/Paris
X-LIC-LOCATION:Europe/Paris
BEGIN:DAYLIGHT
TZOFFSETFROM:+0100
TZOFFSETTO:+0200
TZNAME:CEST
DTSTART:19700329T020000
RRULE:FREQ=YEARLY;BYMONTH=3;BYDAY=-1SU
END:DAYLIGHT
BEGIN:STANDARD
TZOFFSETFROM:+0200
TZOFFSETTO:+0100
TZNAME:CET
DTSTART:19701025T030000
RRULE:FREQ=YEARLY;BYMONTH=10;BYDAY=-1SU
END:STANDARD
END:VTIMEZONE
BEGIN:VEVENT
UID:6339722:Event:132465
DTSTAMP:20260423T160958Z
SUMMARY:Si le loup...
DESCRIPTION:Dans le cadre des RDV magiques \"Les Goûters Enchantés\"
 , le 2ème dimanche de chaque mois, dans ce centre de yoga dirigé par
  Stéphanie Launay, comme à mon habitude je privilégierai les contes
  de tradition populaire, notamment de haute Bretagne :je vous rappelle
 rai comment Dieu, irrité, fit un loup,je narrerai quelques mésaventu
 res : le loup et le renard, le loup pendu, la grande poule...La \"fasc
 ination\" du loup : à couper le souffle, courir le guérou - le loup-
 garou, le violoniste et le loup, la petite fille qui cherche ses frèr
 es changés en loups, ...http://www.lamaisondesanges.fr/\n\nPour en sa
 voir plus, rendez-vous sur http://www.breizhbook.com/events/si-le-loup
DTSTART;TZID=Europe/Paris:20130210T160000
DTEND;TZID=Europe/Paris:20130210T180000
CATEGORIES:conte
LOCATION:La Maison des Anges
WEBSITE:http://www.contes-et-merveilles.com/agenda.php
URL:http://www.contes-et-merveilles.com/agenda.php
CONTACT:
ORGANIZER;CN=MATHIAS:http://www.breizhbook.com/profile/MATHIAS
ATTACH;FMTTYPE="image/jpeg":http://storage.ning.com/topology/rest/1.0/
 file/get/3198325754?profile=original
ATTENDEE;ROLE=REQ-PARTICIPANT;PARTSTAT=ACCEPTED;RSVP=TRUE;CN=MATHIAS:h
 ttp://www.breizhbook.com/profile/MATHIAS
END:VEVENT
END:VCALENDAR
