BEGIN:VCALENDAR
PRODID:NingEventWidget-v1
VERSION:2.0
METHOD:PUBLISH
BEGIN:VTIMEZONE
TZID:Europe/Paris
X-LIC-LOCATION:Europe/Paris
BEGIN:DAYLIGHT
TZOFFSETFROM:+0100
TZOFFSETTO:+0200
TZNAME:CEST
DTSTART:19700329T020000
RRULE:FREQ=YEARLY;BYMONTH=3;BYDAY=-1SU
END:DAYLIGHT
BEGIN:STANDARD
TZOFFSETFROM:+0200
TZOFFSETTO:+0100
TZNAME:CET
DTSTART:19701025T030000
RRULE:FREQ=YEARLY;BYMONTH=10;BYDAY=-1SU
END:STANDARD
END:VTIMEZONE
BEGIN:VEVENT
UID:6339722:Event:99443
DTSTAMP:20260423T160959Z
SUMMARY:semaine de ski
DESCRIPTION:a louer studio 4 personnes a VAL THORENS\nau pied des pist
 es avec sdb - tv- cuisine équipée - local ski - 1 lits double et 2 l
 its simples -\n \nprix du 28 avril au 5 mai 2012 : 350 € / semaine\
 n\nPour en savoir plus, rendez-vous sur http://www.breizhbook.com/even
 ts/semaine-de-ski
DTSTART;TZID=Europe/Paris:20120428T000000
DTEND;TZID=Europe/Paris:20120505T235900
CATEGORIES:ski, en, promo
LOCATION:VACANCES A VAL THORENS
WEBSITE:
URL:
CONTACT:06 03 12 10 71
ORGANIZER;CN="Jannick Le Roux":http://www.breizhbook.com/profile/Janni
 ckLeRoux
ATTACH;FMTTYPE="image/jpeg":
ATTENDEE;ROLE=REQ-PARTICIPANT;PARTSTAT=ACCEPTED;RSVP=TRUE;CN="Jannick 
 Le Roux":http://www.breizhbook.com/profile/JannickLeRoux
END:VEVENT
END:VCALENDAR
