BEGIN:VCALENDAR
PRODID:NingEventWidget-v1
VERSION:2.0
METHOD:PUBLISH
BEGIN:VTIMEZONE
TZID:Europe/Paris
X-LIC-LOCATION:Europe/Paris
BEGIN:DAYLIGHT
TZOFFSETFROM:+0100
TZOFFSETTO:+0200
TZNAME:CEST
DTSTART:19700329T020000
RRULE:FREQ=YEARLY;BYMONTH=3;BYDAY=-1SU
END:DAYLIGHT
BEGIN:STANDARD
TZOFFSETFROM:+0200
TZOFFSETTO:+0100
TZNAME:CET
DTSTART:19701025T030000
RRULE:FREQ=YEARLY;BYMONTH=10;BYDAY=-1SU
END:STANDARD
END:VTIMEZONE
BEGIN:VEVENT
UID:6339722:Event:117419
DTSTAMP:20260423T182026Z
SUMMARY:se levanta y es aswell que Ã©ste admira
DESCRIPTION:Es los mayor de 30 aÃ±os de abundancia abundantes atentos 
 que muriÃ³ la fÃ¡bula Bob Marley del reggae el avance - pero del audio
  como se levanta, se levanta y es aswell que Ã©ste admira no obstante 
 el bazar aural sus millares. Se presentan viajando para ser documental
 es sin fin y biografÃ­as apropos el mayor polo ralph lauren espaÃ±aÂ d
 el cantante-compositor comparado a los aÃ±os de abundancia - pero un m
 olde admite la nueva pelÃ­cula, por el Ã“scar-ganador Kevin Macdonald,
  puede ser el aborigen real para tener acceso a acostumbrado en el sin
 ger' familia de s. Se abre en cines hoy, sobre la premier fue cautivad
 o en el anfiteatro de la emancipaciÃ³n en Kingston, Jamaica, en Thursd
 ay.Outside el lugar, un campana-campanero del cacahuete cantÃ³ adelant
 e al alcohol Rebel.Hundreds de los seres humanos inundados en el anfit
 eatro de la emancipaciÃ³n para el premiere\" I' m un capturer, aventur
 ero del alcohol, \" Ã©l gorjeÃ³ desafinado. sobre el ejÃ©rcito parecÃ­
 a tener gusto de su sensaciÃ³n. La admisiÃ³n era libre, un choque en l
 a administraciÃ³n de individuos de Jamaica con el uso de la familia de
  Marley, polos ralph laurenÂ y aspecto del country' aniversario de s d
 e cincuenta aÃ±os de abundancia de independencia. Los millares tomaron
  la oferta. Con las pantallas punteadas al corriente al parque, se ase
 mejÃ³ a un oxÃ­geno accesible abundante indirecto para el nation' hijo
  preferido de s. Un alfombrado rojo, respetuoso del medio ambiente y d
 el oro fue presentado para el VIPs, sobre Ã©l en actualidad fue substi
 tuido a ritmo acelerado. en actualidad beheld como maldiciendo al resp
 iradero para los colores de Rastafari, incluso si podrÃ­a lograr para 
 los tiros aberrantes de la publicidad. La falta de definiciÃ³n promete
  perspicacia aberrante en Marley' s abrevia la vida, que era abrevia a
 brevia por el cÃ¡ncer, si Ã©l era 36.\" histÃ³rico; Usted anÃ¡lisis so
 bre este ser cuyo avance que usted acepta por todas partes, usted del 
 audio anÃ¡lisis cÃ³mo Ã©l comenzÃ³ la actualidad complicada Ã©l logrÃ³
  y cÃ³mo Ã©l aconsejÃ³ a seres humanos su generosidad del alcohol apen
 as apropos el \" del generalmente; dice a Chris Blackwell - el arquite
 cto de los extractos de la isla que Bob activo Marley tan sano como lo
 s Wailers y fabricado la nueva pelÃ­cula del molde. \" Consiste en un 
 abismo a Ã©l y a las porciones de affecto a Ã©l Incluso cÃ³mo Ã©l era 
 si Ã©l adquiriÃ³ al enfermo. en actualidad era asombroso cÃ³mo es capa
 z Ã©l era y su resolve.\" Kevin McDonald' la falta de definiciÃ³n de s
  consiste en tareas junto al uso anormal de las entrevistas de trabajo
  el reggae brillante y su familyThe Marley admite ahora estira mÃºsica
  antecedente. Tiene presentarse para ser aconsejado global una marca d
 e fÃ¡brica, activa a las compaÃ±Ã­as del bazar como alterado como cafÃ
 © express y ropa, apartamento del auberge y los auriculares. ralph lau
 ren baratoÂ Â¿Esta cubierta de la falta de definiciÃ³n en la administr
 aciÃ³n de la fÃ¡bula o en la administraciÃ³n del artefacto o de la agr
 egaciÃ³n alinea tan? \" La falta de definiciÃ³n doesn' t commodify Mar
 ley, \" dice a Kevin Macdonald. \" Hace el revÃ©s. Pertinente antÃ­pod
 a de Kevin Macdonald y de Ziggy Marley el film\" Pela lejos la imagen 
 del affiche, el Ã¡ngel de la blusa y dice, ' Â¿quiÃ©n era Bob Marley? 
 ' \" It' s. A. que apela la falta de definiciÃ³n abandonada y cariÃ±os
 a that' s no airbrushed. It' s ausente tener acceso a un portrait.\" c
 onfiable;\n\nPour en savoir plus, rendez-vous sur http://www.breizhboo
 k.com/events/se-levanta-y-es-aswell-que-ste-admira
DTSTART;TZID=Europe/Paris:20120423T180000
DTEND;TZID=Europe/Paris:20120423T190000
CATEGORIES:jilianri
LOCATION:faguo
WEBSITE:
URL:
CONTACT:
ORGANIZER;CN=susan:http://www.breizhbook.com/profile/susan
ATTACH;FMTTYPE="image/jpeg":
ATTENDEE;ROLE=REQ-PARTICIPANT;PARTSTAT=ACCEPTED;RSVP=TRUE;CN=susan:htt
 p://www.breizhbook.com/profile/susan
END:VEVENT
END:VCALENDAR
